Workbook
Name dagen: 'VKI BESLAG 1'!$G$54:$G$58
Name dagen: 'VKI BESLAG 10'!$G$54:$G$58
Name dagen: 'VKI BESLAG 2'!$G$54:$G$58
Name dagen: 'VKI BESLAG 3'!$G$54:$G$58
Name dagen: 'VKI BESLAG 4'!$G$54:$G$58
Name dagen: 'VKI BESLAG 5'!$G$54:$G$58
Name dagen: 'VKI BESLAG 6'!$G$54:$G$58
Name dagen: 'VKI BESLAG 7'!$G$54:$G$58
Name dagen: 'VKI BESLAG 8'!$G$54:$G$58
Name dagen: 'VKI BESLAG 9'!$G$54:$G$58
Name dagen: #REF!
Name geneesmiddelen: 'Producten + wachttijd'!$D$4:$D$75
Name geneesmiddelenW: 'Producten + wachttijd'!$E$2:$F$75
Name landen: 'Producten + wachttijd'!$K$3:$K$245
Name opzet: 'VKI BESLAG 1'!$H$17
Name opzet: 'VKI BESLAG 10'!$H$17
Name opzet: 'VKI BESLAG 2'!$H$17
Name opzet: 'VKI BESLAG 3'!$H$17
Name opzet: 'VKI BESLAG 4'!$H$17
Name opzet: 'VKI BESLAG 5'!$H$17
Name opzet: 'VKI BESLAG 6'!$H$17
Name opzet: 'VKI BESLAG 7'!$H$17
Name opzet: 'VKI BESLAG 8'!$H$17
Name opzet: 'VKI BESLAG 9'!$H$17
Name opzet: #REF!
Name Print_Area: 'VKI BESLAG 1'!$A$1:$J$112
Name Print_Area: 'VKI BESLAG 10'!$A$1:$J$112
Name Print_Area: 'VKI BESLAG 2'!$A$1:$J$112
Name Print_Area: 'VKI BESLAG 3'!$A$1:$J$112
Name Print_Area: 'VKI BESLAG 4'!$A$1:$J$112
Name Print_Area: 'VKI BESLAG 5'!$A$1:$J$112
Name Print_Area: 'VKI BESLAG 6'!$A$1:$J$112
Name Print_Area: 'VKI BESLAG 7'!$A$1:$J$112
Name Print_Area: 'VKI BESLAG 8'!$A$1:$J$112
Name Print_Area: 'VKI BESLAG 9'!$A$1:$J$112
Name slachtdatum: 'VKI BESLAG 1'!$K$2
Name slachtdatum: 'VKI BESLAG 10'!$K$2
Name slachtdatum: 'VKI BESLAG 2'!$K$2
Name slachtdatum: 'VKI BESLAG 3'!$K$2
Name slachtdatum: 'VKI BESLAG 4'!$K$2
Name slachtdatum: 'VKI BESLAG 5'!$K$2
Name slachtdatum: 'VKI BESLAG 6'!$K$2
Name slachtdatum: 'VKI BESLAG 7'!$K$2
Name slachtdatum: 'VKI BESLAG 8'!$K$2
Name slachtdatum: 'VKI BESLAG 9'!$K$2
Name slachtdatum: #REF!
Name toevoegingsmiddelen: #REF!
Name Toevoegmiddel: 'Producten + wachttijd'!$A$6:$A$20
Name ToevoegmiddelW: 'Producten + wachttijd'!$B$2:$C$20
Name vaccins: 'Producten + wachttijd'!$G$5:$G$63

Sheet Instructies
A1: Invulinstructies VKI-formulier slachtpluimvee - braadkippen
A2: ALGEMENE INFO ROND DE WERKWIJZE VAN HET FORMULIER
A4: 1 | B4: Enkel de lichtblauwe tekstvakken moeten ingevuld worden.
A6: 2 | B6: Dit VKI-formulier dient als begeleidingsdocument voor slachtrijpe braadkippen. Het is opgesteld door Belplume, in overleg met het FAVV. De onderhavige versie VKI dient te worden gebruikt met ingang van 1/09/2026,
A8: 3 | B8: Het VKI-formulier moet minstens 2 werkdagen voor de slachting toekomen in het slachthuis.
B9: Enkel een volledig en correct ingevuld VKI is geldig.
B10: Bij voorkeur vult u dit elektronisch formulier in en verstuurt u dit per mail naar het slachthuis.
B11: Het is echter ook mogelijk om het formulier uit te printen en handmatig in te vullen om daarna via fax of via de post versturen. Hou hierbij rekening dat deze brief 2 werkdagen vóór slachting moet toekomen in het slachthuis.
A13: 4 | B13: Ingevulde formulieren maximum 7 dagen geldig. Hou er rekening mee dat de dag van de ondertekening door de pluimveehouder beschouwd wordt als de eerste dag van de geldigheid van de VKI.
B14: Indien echter in deze periode van de geldigheidsduur van 7 dagen van de VKI nieuwe behandelingen of analyses zouden zijn uitgevoerd en/of ziektes of abnormale productiecijfers zouden zijn vastgesteld, moet een nieuwe VKI opgestelden overgemaakt worden aan het slachthuis.
A16: 5 | B16: De bewaartijd van de VKI-documenten bedraagt 5 jaar voor de slachthuizen en 5 jaar voor de pluimveehouders.
A18: 6 | B18: Per lot vult u een VKI-document in.
B19: De informatie in een VKI is van toepassing op en is dus identiek voor elk dier in het lot dat op de VKI vermeld staat.
B20: Wanneer voor een dier of lot dieren of deel van een lot dieren afwijkende gegevens moeten worden meegedeeld, moet voor dat dier of lot dieren of deel van een lot dieren een apart VKI opgesteld worden.
B21: Gaat één lot pluimvee naar verschillende slachthuizen? Dan maakt u voor ieder slachthuis een apart VKI-document op.
B22: Hou telkens een kopie van het VKI-document bij voor uw eigen administratie.
A24: 7 | B24: Het formulier dat u per e-mail doorstuurt naar het slachthuis moet niet ondertekend worden.
A26: 8 | B26: Op het exemplaar dat u uitprint en meegeeft met een vrachtwagenchauffeur, moet er wel een handtekening en datum komen.
A28: 9 | B28: Het document werd zo ingesteld dat de K-kolom niet wordt afgedrukt.
A30: 10 | B30: Als dieren via tussenpersonen (al of niet handelaar…) worden verhandeld, dient elke tussenpersoon/handelaar de VKI op te vragen bij elke vorige houder en deze desgevallend aan te vullen met nieuwe relevante informatie.
A32: 11 | B32: Dit VKI-formulier kan gedownload worden van deze websites:
B33: http://www.favv.be - http://www.pluimvee.be - http://www.belplume.be - http://www.boerenbond.be
B34: Via deze websites en de vakbladen zal u ook verwittigd worden als er nieuw versie beschikbaar is.
A36: DEEL 1 - INFORMATIE OVER PRODUCENT
A39: 12 | B39: Vermoedelijke slachtdatum: | C39: Datum dat het pluimvee effectief geslacht wordt.
A41: 13 | B41: Vul eerst de vermoedelijke slachtdatum in voordat u de rest van het document invult.
A43: 14 | B43: Indien u gebruik maakt van het elektronisch formulier, vult u eerst de vaste gegevens met betrekking tot de producent in. Daarna slaat u het document op. Op deze manier hoeft u de vaste gegevens niet telkens opnieuw in te vullen.
A45: 15 | B45: Als de administratieve zetel zich op hetzelfde adres bevindt als het beslag dan is het beslagadres gelijk aan het administratief adres.
A47: DEEL 2 - INFORMATIE OVER LOT PLUIMVEE
A49: 16 | B49: Vervolgens vult u de specifieke gegevens van het te slachten lot in in de daartoe voorziene velden.
A51: 17 | B51: Beslagnummer: | C51: Code bestaande uit 12-cijfers. Deze code kan u terugvinden op uw beslagfiche.
A53: 18 | B53: Adres beslag: | C53: Adres waardat het pluimvee gehuisvest is. Het beslagadres kan gelijk zijn aan het administratief adres, namelijk als er slechts op één plaats pluimvee gehouden wordt.
A55: 19 | B55: Bijkomende informatie | C55: (Dit is een facultatief) Combinatie van het beslagnummer én de opzetdatum.
C56: Formaat: BEXXXXXXXX-030X/20YY_MM_DD
A58: 20 | B58: Kwaliteitslabel | C58: Ofwel het eigenlijke certificaat Belplume ofwel het equivalent document IKB Kip voor pluimvee uit Nederland.
A60: 21 | B60: Geboortedatum: | C60: Datum dat het lot pluimvee werd geboren..
C61: Bij on-farm-hatching de geboortedatum wanneer de kuikens zijn uitgekipt op het bedrijf.
A63: 22 | B63: Aantal opgezette dieren: | C63: Het aantal dieren dat initieel werd opgezet.
A65: 23 | B65: Aantal dieren naar slachthuis: | C65: Het aantal dieren dat naar één slachthuis wordt gebracht.
B66: Een afwijking van maximaal 3% wordt getolereerd.
A68: 24 | B68: Naam vangploeg | C68: Geef de bedrijfsnaam van de professionele vangploeg. Indien u beroep doet op familie, vrienden of kennissen die slechts op één pluimveebedrijf hun activiteit uitoefenen, vermeldt u "occasionele helpers".
A71: 25 | B71: Gecum. Dag. sterftepercentage: | C71: VERPLICHT IN TE VULLEN Gecumuleerd dagelijks sterftepercentage. Formule = som van de dagelijks sterfte percentages U kan dit percentage terugvinden in het Afdrukscherm van de uitvallijst
A74: 26 | B74: De uitvallijst | C74: VERPLICHT MEE TE STUREN voor pluimveehouders met een bezettingsdichtheid van meer dan 33 kg/m². Deze lijst wordt ingevuld & als bijlage doorgestuurd met het VKI-formulier. Terug te vinden op https://www.belplume.be/Documenten.php
A76: 27 | B76: De lijnen 'Naam voederleverancier' en 'Naam leverancier enkelvoudige grondstoffen' zijn facultatief in te vullen.
A78: 28 | B78: Voor de gemedicineerde diervoeders (incl. ontwormingsmiddel), voederadditief (coccidiostatica), geneesmiddelen en vaccins zijn er zogenaamde "dropdown"-lijsten voorzien. Nadat u hier de juiste producten hebt uitgekozen (klik op het pijltje), verschijnt de wettelijke wachttijd (in dagen).
A80: 29 | B80: Let wel op: uw dierenarts kan beslissen om af te wijken van deze wachttijd. Het is dan ook nodig dat u steeds nagaat of de wachttijd van de drop-down lijst overeenstemt met de wachttijd die vermeld staat op het voorschrift. Indien niet, dan moet u de aangegeven wachttijd aanpassen naar de voorgeschreven wachttijd (dagen). U kan de formule dan verwijderen in Excel en handmatig de juiste wachttijd ingeven.
A82: 30 | B82: De "dropdown"-lijsten bevatten enkel de meest courant gebruikte producten. Indien u een product heeft gebruikt dat niet in de lijsten werd opgenomen, kunt u de blanco cel onder de lijsten invullen. N.B.: indien u gebruikt maakt van deze blanco cellen moeten de wachttijden (dagen) eveneens ingevuld worden.
A84: 31 | B84: Indien u geen coccidiostatica, geneesmiddelen of vaccins gebruikte, kies dan voor de lijn 'Niet van toepassing' in de "dropdown"-lijst.
A86: 32 | B86: Ook als er geen geneesmiddelen werden gebruikt, moeten ziekten of symptomen ingevuld worden.
A88: 33 | B88: In het vak 'referentienummer beproevingsverslag' vult u het referentienummer van het laboverslag in. Een kopie van het origineel laboverslag met volledig resultaat moet toegevoegd worden bij de vooraanmelding aan het slachthuis. Dit is nodig voor het bepalen van de logistieke slachtvolgorde.
A90: 34 | B90: Beslagnummer broeierij | C90: Elke broeierij heeft een apart beslagnummer. U kan dit beslagnummer opvragen bij uw broeierij.
A92: DEEL 3 - INFORMATIE VAN BELANG VOOR EXPORT NAAR DERDE LANDEN
A94: 35 | B94: HPAI | C94: Hoog pathogene aviaire influenza
B95: LPAI | C95: Laag pathogene aviaire influenza
B96: NCD | C96: Ziekte van Newcastle
A98: 36 | B98: Bedrijf van herkomst | C98: Het bedrijf (beslagnummer) waar de dieren geladen worden richting slachthuis of richting volgend bedrijf.
A100: 37 | B100: Versterkte controle | C100: Een maatregel van opvolging die opgestart wordt wanneer residuen van een toegestane stof aan het licht worden gebracht, waarvan de concentratie groter is dan de toegestane limiet, en het onderzoek niet aantoont dat de aanwezigheid van die residuen te wijten is aan een legale behandeling. De maatregelen waaruit de versterkte controle bestaat evenals de duur van de toepassing ervan variëren al naargelang de ernst van de vastgestelde overtreding en kan een controle van een lot dieren in het slachthuis op dezelfde residuen als deze die aanleiding hebben gegeven tot deze versterkte controle omvatten.
A102: 38 | B102: KB van 27/02/2013 | C102: Het KB is de wettelijke basis om de versterkte controle (de maatregelen) toe te passen
A104: 39 | B104: In het vak 'bijzondere meldingen' kan u bijkomende info vermelden die nuttig is voor het slachthuis en/of de keurder. Indien er zich wijzigingen voordoen in de periode tussen het invullen van het formulier en het afgeven van het pluimvee in het slachthuis, moeten deze wijzigingen hier gemeld worden. Relevante resultaten van eerdere ante- en postmortemkeuringen van dieren afkomstig van hetzelfde bedrijf dienen ook vermeld moeten worden (tenzij het slachthuis hier reeds over beschikt). Het bedrijf van herkomst van de dieren is onderworpen aan een versterkte controle overeenkomstig het Koninklijk Besluit van 27 februari 2013.
A106: DEEL 4 - GOEDKEURING SLACHTHUIS
A108: 40 | B108: Dit luik van het formulier is voorbehouden voor het slachthuis, hier hoeft u dus niets in te vullen.
A110: DEEL 5 - FAVV - CONTROLE: VKI GECONTROLEERD
A112: 41 | B112: Dit laatste luik van het formulier is voorbehouden voor het FAVV, hier hoeft u dus niets in te vullen.
B114: => Suggesties voor verbetering van dit VKI document kunnen gestuurd worden naar "info@belplume.be"
B116: DISCLAIMER
B117: Belplume spant zich in om het VKI-formulier foutloos en up-to-date te houden. Belplume kan echter niet garanderen dat het VKI-formulier op elk moment volledig vrij van fouten is. Belplume kan niet aansprakelijk gesteld worden voor rechtstreekse of onrechtstreekse schade die ontstaat uit het gebruik van het VKI-formulier of de ter beschikking gestelde informatie.

Sheet VKI BESLAG 1
A1: VOEDSELKETENINFORMATIE SLACHTPLUIMVEE - braadkippen versie 09/2026 | K1: Vermoedelijke slachtdatum:
A2: DEEL 1 - INFORMATIE OVER PRODUCENT EN BEDRIJFSDIERENARTS | K2: dd-mm-yy
A4: PRODUCENT
A5: Verantwoordelijke: | F5: GSM (of TEL):
A6: Naam bedrijfszetel: | F6: FAX:
A7: Administratief adres: | F7: E-mail:
A10: BEDRIJFSDIERENARTS
A11: NAAM: | F11: GSM (of TEL):
A12: ADRES:
A15: DEEL 2 - INFORMATIE OVER HET LOT PLUIMVEE
A16: BESLAG:
A17: Beslagnummer (formaat BEXXXXXXXX-030X):
A18: Adres beslag: | F18: Aantal opgezette dieren:
F19: Aantal dieren naar slachthuis:
A20: Naam vangploeg: | F20: *Gecum. Dag. sterftepercentage:
A21: Bijkomde informatie: | F21: Totaal sterftepercentage:
A22: Soort pluimvee: | B22: BRAADKIPPEN | F22: * verplicht in te vullen + uitvallijst meesturen met VKI
A23: Ras: | F23: Gemiddeld gewicht in kg/kip:
A24: Kwaliteitslabel: | F24: Bezettingsdichtheid > 33 kg/m² ?
A25: Geboortedatum: | B25: dd-mm-yy
A27: INFO VOEDER: (laatste 6 weken)
A28: Naam voederleverancier:
A29: Naam leverancier enkelvoudige grondstoffen:
A30: Naam geneesmiddel / gemedicineerde voeders / voederadditief (kies uit dropdown-lijst:) | G30: Begindatum | H30: Einddatum | I30: Wachttijd | K30: Toegestane uiterste toedieningsdatum:
G31: dd-mm-yy | H31: dd-mm-yy | I31: =IFERROR(VLOOKUP(A31,'Producten + wachttijd'!$A$2:$C$1000,3,FALSE),0) -> 0 | K31: =IFERROR(slachtdatum-I31-1,"")
G32: dd-mm-yy | H32: dd-mm-yy | I32: =IFERROR(VLOOKUP(A32,'Producten + wachttijd'!$A$2:$C$1000,3,FALSE),0) -> 0 | K32: =IFERROR(slachtdatum-I32-1,"")
G33: dd-mm-yy | H33: dd-mm-yy | I33: =IFERROR(VLOOKUP(A33,'Producten + wachttijd'!$A$2:$C$1000,3,FALSE),0) -> 0 | K33: =IFERROR(slachtdatum-I33-1,"")
G34: dd-mm-yy | H34: dd-mm-yy | I34: =IFERROR(VLOOKUP(A34,'Producten + wachttijd'!$A$2:$C$1000,3,FALSE),0) -> 0 | K34: =IFERROR(slachtdatum-I34-1,"")
A35: x
A36: x
A37: x
A38: INFO ZIEKTEN, SYMPTOMEN EN GENEESMIDDELEN: (laatste 6 weken)
A39: Geneesmiddelenbehandeling | H39: Ziekten / symptomen | J39: Leeftijd dieren in dagen | K39: Toegestane uiterste toedieningsdatum:
A40: Naam (kies uit dropdown-lijst) | E40: Begindatum | F40: Einddatum | G40: Wachttijd
E41: dd-mm-yy | F41: dd-mm-yy | G41: =IFERROR(VLOOKUP(A41,'Producten + wachttijd'!$D$2:$F$1000,3,FALSE),0) -> 0 | J41: =IFERROR(IF(OR(E41="",A41=65,A41=66),"",CONCATENATE(E41-$B$25+1," dag(en)")),"") | K41: =IFERROR(slachtdatum-G41-1,"")
E42: dd-mm-yy | F42: dd-mm-yy | G42: =IFERROR(VLOOKUP(A42,'Producten + wachttijd'!$D$2:$F$1000,3,FALSE),0) -> 0 | J42: =IFERROR(IF(OR(E42="",A42=65,A42=66),"",CONCATENATE(E42-$B$25+1," dag(en)")),"") | K42: =IFERROR(slachtdatum-G42-1,"")
E43: dd-mm-yy | F43: dd-mm-yy | G43: =IFERROR(VLOOKUP(A43,'Producten + wachttijd'!$D$2:$F$1000,3,FALSE),0) -> 0 | J43: =IFERROR(IF(OR(E43="",A43=65,A43=66),"",CONCATENATE(E43-$B$25+1," dag(en)")),"") | K43: =IFERROR(slachtdatum-G43-1,"")
E44: dd-mm-yy | F44: dd-mm-yy | G44: =IFERROR(VLOOKUP(A44,'Producten + wachttijd'!$D$2:$F$1000,3,FALSE),0) -> 0 | J44: =IFERROR(IF(OR(E44="",A44=65,A44=66),"",CONCATENATE(E44-$B$25+1," dag(en)")),"") | K44: =IFERROR(slachtdatum-G44-1,"")
E45: dd-mm-yy | F45: dd-mm-yy | G45: =IFERROR(VLOOKUP(A45,'Producten + wachttijd'!$D$2:$F$1000,3,FALSE),0) -> 0 | J45: =IFERROR(IF(OR(E45="",A45=65,A45=66),"",CONCATENATE(E45-$B$25+1," dag(en)")),"") | K45: =IFERROR(slachtdatum-G45-1,"")
A49: Zijn er bijkomende ziektesymptomen die de veiligheid van het vlees in het gedrang brengen?
A50: Bijkomende ziektesymptomen:
A51: INFO VACCINATIE: (laatste 6 weken) | K51: Toegestane uiterste toedieningsdatum:
A52: Naam (kies uit dropdown-lijst) | E52: Toedienigs datum | F52: Manier van toediening (dropdown-lijst) | G52: Wachttijd | H52: Ziekten | J52: Leeftijd dieren in dagen
E54: dd-mm-yy | G54: =IFERROR(VLOOKUP(A54,'Producten + wachttijd'!$G$2:$I$1000,3,FALSE),0) -> 0 | H54: =IFERROR(VLOOKUP(A54,'Producten + wachttijd'!$G$2:$J$1000,4,FALSE),"") | J54: =IFERROR(IF(OR(E54="",A54=65,A54=66),"",CONCATENATE(E54-$B$25+1," dag(en)")),"") | K54: =IFERROR(slachtdatum-G54-1,"")
E55: dd-mm-yy | G55: =IFERROR(VLOOKUP(A55,'Producten + wachttijd'!$G$2:$I$1000,3,FALSE),0) -> 0 | H55: =IFERROR(VLOOKUP(A55,'Producten + wachttijd'!$G$2:$J$1000,4,FALSE),"") | J55: =IFERROR(IF(OR(E55="",A55=65,A55=66),"",CONCATENATE(E55-$B$25+1," dag(en)")),"") | K55: =IFERROR(slachtdatum-G55-1,"")
E56: dd-mm-yy | G56: =IFERROR(VLOOKUP(A56,'Producten + wachttijd'!$G$2:$I$1000,3,FALSE),0) -> 0 | H56: =IFERROR(VLOOKUP(A56,'Producten + wachttijd'!$G$2:$J$1000,4,FALSE),"") | J56: =IFERROR(IF(OR(E56="",A56=65,A56=66),"",CONCATENATE(E56-$B$25+1," dag(en)")),"") | K56: =IFERROR(slachtdatum-G56-1,"")
E57: dd-mm-yy | G57: =IFERROR(VLOOKUP(A57,'Producten + wachttijd'!$G$2:$I$1000,3,FALSE),0) -> 0 | H57: =IFERROR(VLOOKUP(A57,'Producten + wachttijd'!$G$2:$J$1000,4,FALSE),"") | J57: =IFERROR(IF(OR(E57="",A57=65,A57=66),"",CONCATENATE(E57-$B$25+1," dag(en)")),"") | K57: =IFERROR(slachtdatum-G57-1,"")
E58: dd-mm-yy | G58: =IFERROR(VLOOKUP(A58,'Producten + wachttijd'!$G$2:$I$1000,3,FALSE),0) -> 0 | H58: =IFERROR(VLOOKUP(A58,'Producten + wachttijd'!$G$2:$J$1000,4,FALSE),"") | J58: =IFERROR(IF(OR(E58="",A58=65,A58=66),"",CONCATENATE(E58-$B$25+1," dag(en)")),"") | K58: =IFERROR(slachtdatum-G58-1,"")
A62: ONDERZOEKEN UITGEVOERD IN HET KADER VAN DE VOEDSELVEILIGHEID
A63: Omschrijving Salmonella controle | F63: Referentienummer beproevingsverslag + eventuele opmerkingen
A64: Ingangscontrole
A65: Serotypering:
A66: Beslagnummer broeierij
A67: Uitgangscontrole
A68: Serotypering:
A69: Het bedrijf van herkomst van de dieren is onderworpen aan een versterkte controle overeenkomstig het Koninklijk Besluit van 27/02/2013?
A70: BIJZONDERE VERMELDINGEN (BV. RELEVANTE RESULTATEN VAN EERDERE ANTE- EN POSTMORTEMKEURINGEN) EN/OF BIJKOMENDE ANALYSERESULTATEN:
A72: DEEL 3 - INFORMATIE VAN BELANG VOOR EXPORT NAAR DERDE LANDEN
A73: Werden de kuikens geboren in België?
A76: Werd het pluimvee gehouden in België?
A79: Het pluimvee werd gevoederd met
A82: Werd er in de afgelopen 12 maand op het bedrijf:
... A103: Verzending onder de verantwoordelijkheid van de exploitant die deze VKI-verklaring heeft ingevuld.
A104: Handtekening producent: | G104: Datum:
A106: DEEL 4 - GOEDKEURING SLACHTHUIS
A107: IK AANVAARD DIT PLUIMVEE VOOR HET SLACHTEN:
A108: Handtekening verantwoordelijke slachthuis: | G108: Datum:
A110: DEEL 5 - FAVV - CONTROLE: VKI GECONTROLEERD
A111: Handtekening officiële dierenarts: | G111: Datum:

Sheet VKI BESLAG 2
A1: VOEDSELKETENINFORMATIE SLACHTPLUIMVEE - braadkippen versie 09/2026 | K1: Vermoedelijke slachtdatum:
A2: DEEL 1 - INFORMATIE OVER PRODUCENT EN BEDRIJFSDIERENARTS | K2: dd-mm-yy
A4: PRODUCENT
A5: Verantwoordelijke: | F5: GSM (of TEL):
A6: Naam bedrijfszetel: | F6: FAX:
A7: Administratief adres: | F7: E-mail:
A10: BEDRIJFSDIERENARTS
A11: NAAM: | F11: GSM (of TEL):
A12: ADRES:
A15: DEEL 2 - INFORMATIE OVER HET LOT PLUIMVEE
A16: BESLAG:
A17: Beslagnummer (formaat BEXXXXXXXX-030X):
A18: Adres beslag: | F18: Aantal opgezette dieren:
F19: Aantal dieren naar slachthuis:
A20: Naam vangploeg: | F20: *Gecum. Dag. sterftepercentage:
A21: Bijkomde informatie: | F21: Totaal sterftepercentage:
A22: Soort pluimvee: | B22: BRAADKIPPEN | F22: * verplicht in te vullen + uitvallijst meesturen met VKI
A23: Ras: | F23: Gemiddeld gewicht in kg/kip:
A24: Kwaliteitslabel: | F24: Bezettingsdichtheid > 33 kg/m² ?
A25: Geboortedatum: | B25: dd-mm-yy
A27: INFO VOEDER: (laatste 6 weken)
A28: Naam voederleverancier:
A29: Naam leverancier enkelvoudige grondstoffen:
A30: Naam geneesmiddel / gemedicineerde voeders / voederadditief (kies uit dropdown-lijst:) | G30: Begindatum | H30: Einddatum | I30: Wachttijd | K30: Toegestane uiterste toedieningsdatum:
G31: dd-mm-yy | H31: dd-mm-yy | I31: =IFERROR(VLOOKUP(A31,'Producten + wachttijd'!$A$2:$C$1000,3,FALSE),0) -> 0 | K31: =IFERROR(slachtdatum-I31-1,"")
G32: dd-mm-yy | H32: dd-mm-yy | I32: =IFERROR(VLOOKUP(A32,'Producten + wachttijd'!$A$2:$C$1000,3,FALSE),0) -> 0 | K32: =IFERROR(slachtdatum-I32-1,"")
G33: dd-mm-yy | H33: dd-mm-yy | I33: =IFERROR(VLOOKUP(A33,'Producten + wachttijd'!$A$2:$C$1000,3,FALSE),0) -> 0 | K33: =IFERROR(slachtdatum-I33-1,"")
G34: dd-mm-yy | H34: dd-mm-yy | I34: =IFERROR(VLOOKUP(A34,'Producten + wachttijd'!$A$2:$C$1000,3,FALSE),0) -> 0 | K34: =IFERROR(slachtdatum-I34-1,"")
A35: x
A36: x
A37: x
A38: INFO ZIEKTEN, SYMPTOMEN EN GENEESMIDDELEN: (laatste 6 weken)
A39: Geneesmiddelenbehandeling | H39: Ziekten / symptomen | J39: Leeftijd dieren in dagen | K39: Toegestane uiterste toedieningsdatum:
A40: Naam (kies uit dropdown-lijst) | E40: Begindatum | F40: Einddatum | G40: Wachttijd
E41: dd-mm-yy | F41: dd-mm-yy | G41: =IFERROR(VLOOKUP(A41,'Producten + wachttijd'!$D$2:$F$1000,3,FALSE),0) -> 0 | J41: =IFERROR(IF(OR(E41="",A41=65,A41=66),"",CONCATENATE(E41-$B$25+1," dag(en)")),"") | K41: =IFERROR(slachtdatum-G41-1,"")
E42: dd-mm-yy | F42: dd-mm-yy | G42: =IFERROR(VLOOKUP(A42,'Producten + wachttijd'!$D$2:$F$1000,3,FALSE),0) -> 0 | J42: =IFERROR(IF(OR(E42="",A42=65,A42=66),"",CONCATENATE(E42-$B$25+1," dag(en)")),"") | K42: =IFERROR(slachtdatum-G42-1,"")
E43: dd-mm-yy | F43: dd-mm-yy | G43: =IFERROR(VLOOKUP(A43,'Producten + wachttijd'!$D$2:$F$1000,3,FALSE),0) -> 0 | J43: =IFERROR(IF(OR(E43="",A43=65,A43=66),"",CONCATENATE(E43-$B$25+1," dag(en)")),"") | K43: =IFERROR(slachtdatum-G43-1,"")
E44: dd-mm-yy | F44: dd-mm-yy | G44: =IFERROR(VLOOKUP(A44,'Producten + wachttijd'!$D$2:$F$1000,3,FALSE),0) -> 0 | J44: =IFERROR(IF(OR(E44="",A44=65,A44=66),"",CONCATENATE(E44-$B$25+1," dag(en)")),"") | K44: =IFERROR(slachtdatum-G44-1,"")
E45: dd-mm-yy | F45: dd-mm-yy | G45: =IFERROR(VLOOKUP(A45,'Producten + wachttijd'!$D$2:$F$1000,3,FALSE),0) -> 0 | J45: =IFERROR(IF(OR(E45="",A45=65,A45=66),"",CONCATENATE(E45-$B$25+1," dag(en)")),"") | K45: =IFERROR(slachtdatum-G45-1,"")
A49: Zijn er bijkomende ziektesymptomen die de veiligheid van het vlees in het gedrang brengen?
A50: Bijkomende ziektesymptomen:
A51: INFO VACCINATIE: (laatste 6 weken) | K51: Toegestane uiterste toedieningsdatum:
A52: Naam (kies uit dropdown-lijst) | E52: Toedienigs datum | F52: Manier van toediening (dropdown-lijst) | G52: Wachttijd | H52: Ziekten | J52: Leeftijd dieren in dagen
E54: dd-mm-yy | G54: =IFERROR(VLOOKUP(A54,'Producten + wachttijd'!$G$2:$I$1000,3,FALSE),0) -> 0 | H54: =IFERROR(VLOOKUP(A54,'Producten + wachttijd'!$G$2:$J$1000,4,FALSE),"") | J54: =IFERROR(IF(OR(E54="",A54=65,A54=66),"",CONCATENATE(E54-$B$25+1," dag(en)")),"") | K54: =IFERROR(slachtdatum-G54-1,"")
E55: dd-mm-yy | G55: =IFERROR(VLOOKUP(A55,'Producten + wachttijd'!$G$2:$I$1000,3,FALSE),0) -> 0 | H55: =IFERROR(VLOOKUP(A55,'Producten + wachttijd'!$G$2:$J$1000,4,FALSE),"") | J55: =IFERROR(IF(OR(E55="",A55=65,A55=66),"",CONCATENATE(E55-$B$25+1," dag(en)")),"") | K55: =IFERROR(slachtdatum-G55-1,"")
E56: dd-mm-yy | G56: =IFERROR(VLOOKUP(A56,'Producten + wachttijd'!$G$2:$I$1000,3,FALSE),0) -> 0 | H56: =IFERROR(VLOOKUP(A56,'Producten + wachttijd'!$G$2:$J$1000,4,FALSE),"") | J56: =IFERROR(IF(OR(E56="",A56=65,A56=66),"",CONCATENATE(E56-$B$25+1," dag(en)")),"") | K56: =IFERROR(slachtdatum-G56-1,"")
E57: dd-mm-yy | G57: =IFERROR(VLOOKUP(A57,'Producten + wachttijd'!$G$2:$I$1000,3,FALSE),0) -> 0 | H57: =IFERROR(VLOOKUP(A57,'Producten + wachttijd'!$G$2:$J$1000,4,FALSE),"") | J57: =IFERROR(IF(OR(E57="",A57=65,A57=66),"",CONCATENATE(E57-$B$25+1," dag(en)")),"") | K57: =IFERROR(slachtdatum-G57-1,"")
E58: dd-mm-yy | G58: =IFERROR(VLOOKUP(A58,'Producten + wachttijd'!$G$2:$I$1000,3,FALSE),0) -> 0 | H58: =IFERROR(VLOOKUP(A58,'Producten + wachttijd'!$G$2:$J$1000,4,FALSE),"") | J58: =IFERROR(IF(OR(E58="",A58=65,A58=66),"",CONCATENATE(E58-$B$25+1," dag(en)")),"") | K58: =IFERROR(slachtdatum-G58-1,"")
A62: ONDERZOEKEN UITGEVOERD IN HET KADER VAN DE VOEDSELVEILIGHEID
A63: Omschrijving Salmonella controle | F63: Referentienummer beproevingsverslag + eventuele opmerkingen
A64: Ingangscontrole
A65: Serotypering:
A66: Beslagnummer broeierij
A67: Uitgangscontrole
A68: Serotypering:
A69: Het bedrijf van herkomst van de dieren is onderworpen aan een versterkte controle overeenkomstig het Koninklijk Besluit van 27/02/2013?
A70: BIJZONDERE VERMELDINGEN (BV. RELEVANTE RESULTATEN VAN EERDERE ANTE- EN POSTMORTEMKEURINGEN) EN/OF BIJKOMENDE ANALYSERESULTATEN:
A72: DEEL 3 - INFORMATIE VAN BELANG VOOR EXPORT NAAR DERDE LANDEN
A73: Werden de kuikens geboren in België?
A76: Werd het pluimvee gehouden in België?
A79: Het pluimvee werd gevoederd met
A82: Werd er in de afgelopen 12 maand op het bedrijf:
... A103: Verzending onder de verantwoordelijkheid van de exploitant die deze VKI-verklaring heeft ingevuld.
A104: Handtekening producent: | G104: Datum:
A106: DEEL 4 - GOEDKEURING SLACHTHUIS
A107: IK AANVAARD DIT PLUIMVEE VOOR HET SLACHTEN:
A108: Handtekening verantwoordelijke slachthuis: | G108: Datum:
A110: DEEL 5 - FAVV - CONTROLE: VKI GECONTROLEERD
A111: Handtekening officiële dierenarts: | G111: Datum:

Sheet VKI BESLAG 3
A1: VOEDSELKETENINFORMATIE SLACHTPLUIMVEE - braadkippen versie 09/2026 | K1: Vermoedelijke slachtdatum:
A2: DEEL 1 - INFORMATIE OVER PRODUCENT EN BEDRIJFSDIERENARTS | K2: dd-mm-yy
A4: PRODUCENT
A5: Verantwoordelijke: | F5: GSM (of TEL):
A6: Naam bedrijfszetel: | F6: FAX:
A7: Administratief adres: | F7: E-mail:
A10: BEDRIJFSDIERENARTS
A11: NAAM: | F11: GSM (of TEL):
A12: ADRES:
A15: DEEL 2 - INFORMATIE OVER HET LOT PLUIMVEE
A16: BESLAG:
A17: Beslagnummer (formaat BEXXXXXXXX-030X):
A18: Adres beslag: | F18: Aantal opgezette dieren:
F19: Aantal dieren naar slachthuis:
A20: Naam vangploeg: | F20: *Gecum. Dag. sterftepercentage:
A21: Bijkomde informatie: | F21: Totaal sterftepercentage:
A22: Soort pluimvee: | B22: BRAADKIPPEN | F22: * verplicht in te vullen + uitvallijst meesturen met VKI
A23: Ras: | F23: Gemiddeld gewicht in kg/kip:
A24: Kwaliteitslabel: | F24: Bezettingsdichtheid > 33 kg/m² ?
A25: Geboortedatum: | B25: dd-mm-yy
A27: INFO VOEDER: (laatste 6 weken)
A28: Naam voederleverancier:
A29: Naam leverancier enkelvoudige grondstoffen:
A30: Naam geneesmiddel / gemedicineerde voeders / voederadditief (kies uit dropdown-lijst:) | G30: Begindatum | H30: Einddatum | I30: Wachttijd | K30: Toegestane uiterste toedieningsdatum:
G31: dd-mm-yy | H31: dd-mm-yy | I31: =IFERROR(VLOOKUP(A31,'Producten + wachttijd'!$A$2:$C$1000,3,FALSE),0) -> 0 | K31: =IFERROR(slachtdatum-I31-1,"")
G32: dd-mm-yy | H32: dd-mm-yy | I32: =IFERROR(VLOOKUP(A32,'Producten + wachttijd'!$A$2:$C$1000,3,FALSE),0) -> 0 | K32: =IFERROR(slachtdatum-I32-1,"")
G33: dd-mm-yy | H33: dd-mm-yy | I33: =IFERROR(VLOOKUP(A33,'Producten + wachttijd'!$A$2:$C$1000,3,FALSE),0) -> 0 | K33: =IFERROR(slachtdatum-I33-1,"")
G34: dd-mm-yy | H34: dd-mm-yy | I34: =IFERROR(VLOOKUP(A34,'Producten + wachttijd'!$A$2:$C$1000,3,FALSE),0) -> 0 | K34: =IFERROR(slachtdatum-I34-1,"")
A35: x
A36: x
A37: x
A38: INFO ZIEKTEN, SYMPTOMEN EN GENEESMIDDELEN: (laatste 6 weken)
A39: Geneesmiddelenbehandeling | H39: Ziekten / symptomen | J39: Leeftijd dieren in dagen | K39: Toegestane uiterste toedieningsdatum:
A40: Naam (kies uit dropdown-lijst) | E40: Begindatum | F40: Einddatum | G40: Wachttijd
E41: dd-mm-yy | F41: dd-mm-yy | G41: =IFERROR(VLOOKUP(A41,'Producten + wachttijd'!$D$2:$F$1000,3,FALSE),0) -> 0 | J41: =IFERROR(IF(OR(E41="",A41=65,A41=66),"",CONCATENATE(E41-$B$25+1," dag(en)")),"") | K41: =IFERROR(slachtdatum-G41-1,"")
E42: dd-mm-yy | F42: dd-mm-yy | G42: =IFERROR(VLOOKUP(A42,'Producten + wachttijd'!$D$2:$F$1000,3,FALSE),0) -> 0 | J42: =IFERROR(IF(OR(E42="",A42=65,A42=66),"",CONCATENATE(E42-$B$25+1," dag(en)")),"") | K42: =IFERROR(slachtdatum-G42-1,"")
E43: dd-mm-yy | F43: dd-mm-yy | G43: =IFERROR(VLOOKUP(A43,'Producten + wachttijd'!$D$2:$F$1000,3,FALSE),0) -> 0 | J43: =IFERROR(IF(OR(E43="",A43=65,A43=66),"",CONCATENATE(E43-$B$25+1," dag(en)")),"") | K43: =IFERROR(slachtdatum-G43-1,"")
E44: dd-mm-yy | F44: dd-mm-yy | G44: =IFERROR(VLOOKUP(A44,'Producten + wachttijd'!$D$2:$F$1000,3,FALSE),0) -> 0 | J44: =IFERROR(IF(OR(E44="",A44=65,A44=66),"",CONCATENATE(E44-$B$25+1," dag(en)")),"") | K44: =IFERROR(slachtdatum-G44-1,"")
E45: dd-mm-yy | F45: dd-mm-yy | G45: =IFERROR(VLOOKUP(A45,'Producten + wachttijd'!$D$2:$F$1000,3,FALSE),0) -> 0 | J45: =IFERROR(IF(OR(E45="",A45=65,A45=66),"",CONCATENATE(E45-$B$25+1," dag(en)")),"") | K45: =IFERROR(slachtdatum-G45-1,"")
A49: Zijn er bijkomende ziektesymptomen die de veiligheid van het vlees in het gedrang brengen?
A50: Bijkomende ziektesymptomen:
A51: INFO VACCINATIE: (laatste 6 weken) | K51: Toegestane uiterste toedieningsdatum:
A52: Naam (kies uit dropdown-lijst) | E52: Toedienigs datum | F52: Manier van toediening (dropdown-lijst) | G52: Wachttijd | H52: Ziekten | J52: Leeftijd dieren in dagen
E54: dd-mm-yy | G54: =IFERROR(VLOOKUP(A54,'Producten + wachttijd'!$G$2:$I$1000,3,FALSE),0) -> 0 | H54: =IFERROR(VLOOKUP(A54,'Producten + wachttijd'!$G$2:$J$1000,4,FALSE),"") | J54: =IFERROR(IF(OR(E54="",A54=65,A54=66),"",CONCATENATE(E54-$B$25+1," dag(en)")),"") | K54: =IFERROR(slachtdatum-G54-1,"")
E55: dd-mm-yy | G55: =IFERROR(VLOOKUP(A55,'Producten + wachttijd'!$G$2:$I$1000,3,FALSE),0) -> 0 | H55: =IFERROR(VLOOKUP(A55,'Producten + wachttijd'!$G$2:$J$1000,4,FALSE),"") | J55: =IFERROR(IF(OR(E55="",A55=65,A55=66),"",CONCATENATE(E55-$B$25+1," dag(en)")),"") | K55: =IFERROR(slachtdatum-G55-1,"")
E56: dd-mm-yy | G56: =IFERROR(VLOOKUP(A56,'Producten + wachttijd'!$G$2:$I$1000,3,FALSE),0) -> 0 | H56: =IFERROR(VLOOKUP(A56,'Producten + wachttijd'!$G$2:$J$1000,4,FALSE),"") | J56: =IFERROR(IF(OR(E56="",A56=65,A56=66),"",CONCATENATE(E56-$B$25+1," dag(en)")),"") | K56: =IFERROR(slachtdatum-G56-1,"")
E57: dd-mm-yy | G57: =IFERROR(VLOOKUP(A57,'Producten + wachttijd'!$G$2:$I$1000,3,FALSE),0) -> 0 | H57: =IFERROR(VLOOKUP(A57,'Producten + wachttijd'!$G$2:$J$1000,4,FALSE),"") | J57: =IFERROR(IF(OR(E57="",A57=65,A57=66),"",CONCATENATE(E57-$B$25+1," dag(en)")),"") | K57: =IFERROR(slachtdatum-G57-1,"")
E58: dd-mm-yy | G58: =IFERROR(VLOOKUP(A58,'Producten + wachttijd'!$G$2:$I$1000,3,FALSE),0) -> 0 | H58: =IFERROR(VLOOKUP(A58,'Producten + wachttijd'!$G$2:$J$1000,4,FALSE),"") | J58: =IFERROR(IF(OR(E58="",A58=65,A58=66),"",CONCATENATE(E58-$B$25+1," dag(en)")),"") | K58: =IFERROR(slachtdatum-G58-1,"")
A62: ONDERZOEKEN UITGEVOERD IN HET KADER VAN DE VOEDSELVEILIGHEID
A63: Omschrijving Salmonella controle | F63: Referentienummer beproevingsverslag + eventuele opmerkingen
A64: Ingangscontrole
A65: Serotypering:
A66: Beslagnummer broeierij
A67: Uitgangscontrole
A68: Serotypering:
A69: Het bedrijf van herkomst van de dieren is onderworpen aan een versterkte controle overeenkomstig het Koninklijk Besluit van 27/02/2013?
A70: BIJZONDERE VERMELDINGEN (BV. RELEVANTE RESULTATEN VAN EERDERE ANTE- EN POSTMORTEMKEURINGEN) EN/OF BIJKOMENDE ANALYSERESULTATEN:
A72: DEEL 3 - INFORMATIE VAN BELANG VOOR EXPORT NAAR DERDE LANDEN
A73: Werden de kuikens geboren in België?
A76: Werd het pluimvee gehouden in België?
A79: Het pluimvee werd gevoederd met
A82: Werd er in de afgelopen 12 maand op het bedrijf:
... A103: Verzending onder de verantwoordelijkheid van de exploitant die deze VKI-verklaring heeft ingevuld.
A104: Handtekening producent: | G104: Datum:
A106: DEEL 4 - GOEDKEURING SLACHTHUIS
A107: IK AANVAARD DIT PLUIMVEE VOOR HET SLACHTEN:
A108: Handtekening verantwoordelijke slachthuis: | G108: Datum:
A110: DEEL 5 - FAVV - CONTROLE: VKI GECONTROLEERD
A111: Handtekening officiële dierenarts: | G111: Datum:

Sheet VKI BESLAG 4
A1: VOEDSELKETENINFORMATIE SLACHTPLUIMVEE - braadkippen versie 09/2026 | K1: Vermoedelijke slachtdatum:
A2: DEEL 1 - INFORMATIE OVER PRODUCENT EN BEDRIJFSDIERENARTS | K2: dd-mm-yy
A4: PRODUCENT
A5: Verantwoordelijke: | F5: GSM (of TEL):
A6: Naam bedrijfszetel: | F6: FAX:
A7: Administratief adres: | F7: E-mail:
A10: BEDRIJFSDIERENARTS
A11: NAAM: | F11: GSM (of TEL):
A12: ADRES:
A15: DEEL 2 - INFORMATIE OVER HET LOT PLUIMVEE
A16: BESLAG:
A17: Beslagnummer (formaat BEXXXXXXXX-030X):
A18: Adres beslag: | F18: Aantal opgezette dieren:
F19: Aantal dieren naar slachthuis:
A20: Naam vangploeg: | F20: *Gecum. Dag. sterftepercentage:
A21: Bijkomde informatie: | F21: Totaal sterftepercentage:
A22: Soort pluimvee: | B22: BRAADKIPPEN | F22: * verplicht in te vullen + uitvallijst meesturen met VKI
A23: Ras: | F23: Gemiddeld gewicht in kg/kip:
A24: Kwaliteitslabel: | F24: Bezettingsdichtheid > 33 kg/m² ?
A25: Geboortedatum: | B25: dd-mm-yy
A27: INFO VOEDER: (laatste 6 weken)
A28: Naam voederleverancier:
A29: Naam leverancier enkelvoudige grondstoffen:
A30: Naam geneesmiddel / gemedicineerde voeders / voederadditief (kies uit dropdown-lijst:) | G30: Begindatum | H30: Einddatum | I30: Wachttijd | K30: Toegestane uiterste toedieningsdatum:
G31: dd-mm-yy | H31: dd-mm-yy | I31: =IFERROR(VLOOKUP(A31,'Producten + wachttijd'!$A$2:$C$1000,3,FALSE),0) -> 0 | K31: =IFERROR(slachtdatum-I31-1,"")
G32: dd-mm-yy | H32: dd-mm-yy | I32: =IFERROR(VLOOKUP(A32,'Producten + wachttijd'!$A$2:$C$1000,3,FALSE),0) -> 0 | K32: =IFERROR(slachtdatum-I32-1,"")
G33: dd-mm-yy | H33: dd-mm-yy | I33: =IFERROR(VLOOKUP(A33,'Producten + wachttijd'!$A$2:$C$1000,3,FALSE),0) -> 0 | K33: =IFERROR(slachtdatum-I33-1,"")
G34: dd-mm-yy | H34: dd-mm-yy | I34: =IFERROR(VLOOKUP(A34,'Producten + wachttijd'!$A$2:$C$1000,3,FALSE),0) -> 0 | K34: =IFERROR(slachtdatum-I34-1,"")
A35: x
A36: x
A37: x
A38: INFO ZIEKTEN, SYMPTOMEN EN GENEESMIDDELEN: (laatste 6 weken)
A39: Geneesmiddelenbehandeling | H39: Ziekten / symptomen | J39: Leeftijd dieren in dagen | K39: Toegestane uiterste toedieningsdatum:
A40: Naam (kies uit dropdown-lijst) | E40: Begindatum | F40: Einddatum | G40: Wachttijd
E41: dd-mm-yy | F41: dd-mm-yy | G41: =IFERROR(VLOOKUP(A41,'Producten + wachttijd'!$D$2:$F$1000,3,FALSE),0) -> 0 | J41: =IFERROR(IF(OR(E41="",A41=65,A41=66),"",CONCATENATE(E41-$B$25+1," dag(en)")),"") | K41: =IFERROR(slachtdatum-G41-1,"")
E42: dd-mm-yy | F42: dd-mm-yy | G42: =IFERROR(VLOOKUP(A42,'Producten + wachttijd'!$D$2:$F$1000,3,FALSE),0) -> 0 | J42: =IFERROR(IF(OR(E42="",A42=65,A42=66),"",CONCATENATE(E42-$B$25+1," dag(en)")),"") | K42: =IFERROR(slachtdatum-G42-1,"")
E43: dd-mm-yy | F43: dd-mm-yy | G43: =IFERROR(VLOOKUP(A43,'Producten + wachttijd'!$D$2:$F$1000,3,FALSE),0) -> 0 | J43: =IFERROR(IF(OR(E43="",A43=65,A43=66),"",CONCATENATE(E43-$B$25+1," dag(en)")),"") | K43: =IFERROR(slachtdatum-G43-1,"")
E44: dd-mm-yy | F44: dd-mm-yy | G44: =IFERROR(VLOOKUP(A44,'Producten + wachttijd'!$D$2:$F$1000,3,FALSE),0) -> 0 | J44: =IFERROR(IF(OR(E44="",A44=65,A44=66),"",CONCATENATE(E44-$B$25+1," dag(en)")),"") | K44: =IFERROR(slachtdatum-G44-1,"")
E45: dd-mm-yy | F45: dd-mm-yy | G45: =IFERROR(VLOOKUP(A45,'Producten + wachttijd'!$D$2:$F$1000,3,FALSE),0) -> 0 | J45: =IFERROR(IF(OR(E45="",A45=65,A45=66),"",CONCATENATE(E45-$B$25+1," dag(en)")),"") | K45: =IFERROR(slachtdatum-G45-1,"")
A49: Zijn er bijkomende ziektesymptomen die de veiligheid van het vlees in het gedrang brengen?
A50: Bijkomende ziektesymptomen:
A51: INFO VACCINATIE: (laatste 6 weken) | K51: Toegestane uiterste toedieningsdatum:
A52: Naam (kies uit dropdown-lijst) | E52: Toedienigs datum | F52: Manier van toediening (dropdown-lijst) | G52: Wachttijd | H52: Ziekten | J52: Leeftijd dieren in dagen
E54: dd-mm-yy | G54: =IFERROR(VLOOKUP(A54,'Producten + wachttijd'!$G$2:$I$1000,3,FALSE),0) -> 0 | H54: =IFERROR(VLOOKUP(A54,'Producten + wachttijd'!$G$2:$J$1000,4,FALSE),"") | J54: =IFERROR(IF(OR(E54="",A54=65,A54=66),"",CONCATENATE(E54-$B$25+1," dag(en)")),"") | K54: =IFERROR(slachtdatum-G54-1,"")
E55: dd-mm-yy | G55: =IFERROR(VLOOKUP(A55,'Producten + wachttijd'!$G$2:$I$1000,3,FALSE),0) -> 0 | H55: =IFERROR(VLOOKUP(A55,'Producten + wachttijd'!$G$2:$J$1000,4,FALSE),"") | J55: =IFERROR(IF(OR(E55="",A55=65,A55=66),"",CONCATENATE(E55-$B$25+1," dag(en)")),"") | K55: =IFERROR(slachtdatum-G55-1,"")
E56: dd-mm-yy | G56: =IFERROR(VLOOKUP(A56,'Producten + wachttijd'!$G$2:$I$1000,3,FALSE),0) -> 0 | H56: =IFERROR(VLOOKUP(A56,'Producten + wachttijd'!$G$2:$J$1000,4,FALSE),"") | J56: =IFERROR(IF(OR(E56="",A56=65,A56=66),"",CONCATENATE(E56-$B$25+1," dag(en)")),"") | K56: =IFERROR(slachtdatum-G56-1,"")
E57: dd-mm-yy | G57: =IFERROR(VLOOKUP(A57,'Producten + wachttijd'!$G$2:$I$1000,3,FALSE),0) -> 0 | H57: =IFERROR(VLOOKUP(A57,'Producten + wachttijd'!$G$2:$J$1000,4,FALSE),"") | J57: =IFERROR(IF(OR(E57="",A57=65,A57=66),"",CONCATENATE(E57-$B$25+1," dag(en)")),"") | K57: =IFERROR(slachtdatum-G57-1,"")
E58: dd-mm-yy | G58: =IFERROR(VLOOKUP(A58,'Producten + wachttijd'!$G$2:$I$1000,3,FALSE),0) -> 0 | H58: =IFERROR(VLOOKUP(A58,'Producten + wachttijd'!$G$2:$J$1000,4,FALSE),"") | J58: =IFERROR(IF(OR(E58="",A58=65,A58=66),"",CONCATENATE(E58-$B$25+1," dag(en)")),"") | K58: =IFERROR(slachtdatum-G58-1,"")
A62: ONDERZOEKEN UITGEVOERD IN HET KADER VAN DE VOEDSELVEILIGHEID
A63: Omschrijving Salmonella controle | F63: Referentienummer beproevingsverslag + eventuele opmerkingen
A64: Ingangscontrole
A65: Serotypering:
A66: Beslagnummer broeierij
A67: Uitgangscontrole
A68: Serotypering:
A69: Het bedrijf van herkomst van de dieren is onderworpen aan een versterkte controle overeenkomstig het Koninklijk Besluit van 27/02/2013?
A70: BIJZONDERE VERMELDINGEN (BV. RELEVANTE RESULTATEN VAN EERDERE ANTE- EN POSTMORTEMKEURINGEN) EN/OF BIJKOMENDE ANALYSERESULTATEN:
A72: DEEL 3 - INFORMATIE VAN BELANG VOOR EXPORT NAAR DERDE LANDEN
A73: Werden de kuikens geboren in België?
A76: Werd het pluimvee gehouden in België?
A79: Het pluimvee werd gevoederd met
A82: Werd er in de afgelopen 12 maand op het bedrijf:
... A103: Verzending onder de verantwoordelijkheid van de exploitant die deze VKI-verklaring heeft ingevuld.
A104: Handtekening producent: | G104: Datum:
A106: DEEL 4 - GOEDKEURING SLACHTHUIS
A107: IK AANVAARD DIT PLUIMVEE VOOR HET SLACHTEN:
A108: Handtekening verantwoordelijke slachthuis: | G108: Datum:
A110: DEEL 5 - FAVV - CONTROLE: VKI GECONTROLEERD
A111: Handtekening officiële dierenarts: | G111: Datum:

Sheet VKI BESLAG 5
A1: VOEDSELKETENINFORMATIE SLACHTPLUIMVEE - braadkippen versie 09/2026 | K1: Vermoedelijke slachtdatum:
A2: DEEL 1 - INFORMATIE OVER PRODUCENT EN BEDRIJFSDIERENARTS | K2: dd-mm-yy
A4: PRODUCENT
A5: Verantwoordelijke: | F5: GSM (of TEL):
A6: Naam bedrijfszetel: | F6: FAX:
A7: Administratief adres: | F7: E-mail:
A10: BEDRIJFSDIERENARTS
A11: NAAM: | F11: GSM (of TEL):
A12: ADRES:
A15: DEEL 2 - INFORMATIE OVER HET LOT PLUIMVEE
A16: BESLAG:
A17: Beslagnummer (formaat BEXXXXXXXX-030X):
A18: Adres beslag: | F18: Aantal opgezette dieren:
F19: Aantal dieren naar slachthuis:
A20: Naam vangploeg: | F20: *Gecum. Dag. sterftepercentage:
A21: Bijkomde informatie: | F21: Totaal sterftepercentage:
A22: Soort pluimvee: | B22: BRAADKIPPEN | F22: * verplicht in te vullen + uitvallijst meesturen met VKI
A23: Ras: | F23: Gemiddeld gewicht in kg/kip:
A24: Kwaliteitslabel: | F24: Bezettingsdichtheid > 33 kg/m² ?
A25: Geboortedatum: | B25: dd-mm-yy
A27: INFO VOEDER: (laatste 6 weken)
A28: Naam voederleverancier:
A29: Naam leverancier enkelvoudige grondstoffen:
A30: Naam geneesmiddel / gemedicineerde voeders / voederadditief (kies uit dropdown-lijst:) | G30: Begindatum | H30: Einddatum | I30: Wachttijd | K30: Toegestane uiterste toedieningsdatum:
G31: dd-mm-yy | H31: dd-mm-yy | I31: =IFERROR(VLOOKUP(A31,'Producten + wachttijd'!$A$2:$C$1000,3,FALSE),0) -> 0 | K31: =IFERROR(slachtdatum-I31-1,"")
G32: dd-mm-yy | H32: dd-mm-yy | I32: =IFERROR(VLOOKUP(A32,'Producten + wachttijd'!$A$2:$C$1000,3,FALSE),0) -> 0 | K32: =IFERROR(slachtdatum-I32-1,"")
G33: dd-mm-yy | H33: dd-mm-yy | I33: =IFERROR(VLOOKUP(A33,'Producten + wachttijd'!$A$2:$C$1000,3,FALSE),0) -> 0 | K33: =IFERROR(slachtdatum-I33-1,"")
G34: dd-mm-yy | H34: dd-mm-yy | I34: =IFERROR(VLOOKUP(A34,'Producten + wachttijd'!$A$2:$C$1000,3,FALSE),0) -> 0 | K34: =IFERROR(slachtdatum-I34-1,"")
A35: x
A36: x
A37: x
A38: INFO ZIEKTEN, SYMPTOMEN EN GENEESMIDDELEN: (laatste 6 weken)
A39: Geneesmiddelenbehandeling | H39: Ziekten / symptomen | J39: Leeftijd dieren in dagen | K39: Toegestane uiterste toedieningsdatum:
A40: Naam (kies uit dropdown-lijst) | E40: Begindatum | F40: Einddatum | G40: Wachttijd
E41: dd-mm-yy | F41: dd-mm-yy | G41: =IFERROR(VLOOKUP(A41,'Producten + wachttijd'!$D$2:$F$1000,3,FALSE),0) -> 0 | J41: =IFERROR(IF(OR(E41="",A41=65,A41=66),"",CONCATENATE(E41-$B$25+1," dag(en)")),"") | K41: =IFERROR(slachtdatum-G41-1,"")
E42: dd-mm-yy | F42: dd-mm-yy | G42: =IFERROR(VLOOKUP(A42,'Producten + wachttijd'!$D$2:$F$1000,3,FALSE),0) -> 0 | J42: =IFERROR(IF(OR(E42="",A42=65,A42=66),"",CONCATENATE(E42-$B$25+1," dag(en)")),"") | K42: =IFERROR(slachtdatum-G42-1,"")
E43: dd-mm-yy | F43: dd-mm-yy | G43: =IFERROR(VLOOKUP(A43,'Producten + wachttijd'!$D$2:$F$1000,3,FALSE),0) -> 0 | J43: =IFERROR(IF(OR(E43="",A43=65,A43=66),"",CONCATENATE(E43-$B$25+1," dag(en)")),"") | K43: =IFERROR(slachtdatum-G43-1,"")
E44: dd-mm-yy | F44: dd-mm-yy | G44: =IFERROR(VLOOKUP(A44,'Producten + wachttijd'!$D$2:$F$1000,3,FALSE),0) -> 0 | J44: =IFERROR(IF(OR(E44="",A44=65,A44=66),"",CONCATENATE(E44-$B$25+1," dag(en)")),"") | K44: =IFERROR(slachtdatum-G44-1,"")
E45: dd-mm-yy | F45: dd-mm-yy | G45: =IFERROR(VLOOKUP(A45,'Producten + wachttijd'!$D$2:$F$1000,3,FALSE),0) -> 0 | J45: =IFERROR(IF(OR(E45="",A45=65,A45=66),"",CONCATENATE(E45-$B$25+1," dag(en)")),"") | K45: =IFERROR(slachtdatum-G45-1,"")
A49: Zijn er bijkomende ziektesymptomen die de veiligheid van het vlees in het gedrang brengen?
A50: Bijkomende ziektesymptomen:
A51: INFO VACCINATIE: (laatste 6 weken) | K51: Toegestane uiterste toedieningsdatum:
A52: Naam (kies uit dropdown-lijst) | E52: Toedienigs datum | F52: Manier van toediening (dropdown-lijst) | G52: Wachttijd | H52: Ziekten | J52: Leeftijd dieren in dagen
E54: dd-mm-yy | G54: =IFERROR(VLOOKUP(A54,'Producten + wachttijd'!$G$2:$I$1000,3,FALSE),0) -> 0 | H54: =IFERROR(VLOOKUP(A54,'Producten + wachttijd'!$G$2:$J$1000,4,FALSE),"") | J54: =IFERROR(IF(OR(E54="",A54=65,A54=66),"",CONCATENATE(E54-$B$25+1," dag(en)")),"") | K54: =IFERROR(slachtdatum-G54-1,"")
E55: dd-mm-yy | G55: =IFERROR(VLOOKUP(A55,'Producten + wachttijd'!$G$2:$I$1000,3,FALSE),0) -> 0 | H55: =IFERROR(VLOOKUP(A55,'Producten + wachttijd'!$G$2:$J$1000,4,FALSE),"") | J55: =IFERROR(IF(OR(E55="",A55=65,A55=66),"",CONCATENATE(E55-$B$25+1," dag(en)")),"") | K55: =IFERROR(slachtdatum-G55-1,"")
E56: dd-mm-yy | G56: =IFERROR(VLOOKUP(A56,'Producten + wachttijd'!$G$2:$I$1000,3,FALSE),0) -> 0 | H56: =IFERROR(VLOOKUP(A56,'Producten + wachttijd'!$G$2:$J$1000,4,FALSE),"") | J56: =IFERROR(IF(OR(E56="",A56=65,A56=66),"",CONCATENATE(E56-$B$25+1," dag(en)")),"") | K56: =IFERROR(slachtdatum-G56-1,"")
E57: dd-mm-yy | G57: =IFERROR(VLOOKUP(A57,'Producten + wachttijd'!$G$2:$I$1000,3,FALSE),0) -> 0 | H57: =IFERROR(VLOOKUP(A57,'Producten + wachttijd'!$G$2:$J$1000,4,FALSE),"") | J57: =IFERROR(IF(OR(E57="",A57=65,A57=66),"",CONCATENATE(E57-$B$25+1," dag(en)")),"") | K57: =IFERROR(slachtdatum-G57-1,"")
E58: dd-mm-yy | G58: =IFERROR(VLOOKUP(A58,'Producten + wachttijd'!$G$2:$I$1000,3,FALSE),0) -> 0 | H58: =IFERROR(VLOOKUP(A58,'Producten + wachttijd'!$G$2:$J$1000,4,FALSE),"") | J58: =IFERROR(IF(OR(E58="",A58=65,A58=66),"",CONCATENATE(E58-$B$25+1," dag(en)")),"") | K58: =IFERROR(slachtdatum-G58-1,"")
A62: ONDERZOEKEN UITGEVOERD IN HET KADER VAN DE VOEDSELVEILIGHEID
A63: Omschrijving Salmonella controle | F63: Referentienummer beproevingsverslag + eventuele opmerkingen
A64: Ingangscontrole
A65: Serotypering:
A66: Beslagnummer broeierij
A67: Uitgangscontrole
A68: Serotypering:
A69: Het bedrijf van herkomst van de dieren is onderworpen aan een versterkte controle overeenkomstig het Koninklijk Besluit van 27/02/2013?
A70: BIJZONDERE VERMELDINGEN (BV. RELEVANTE RESULTATEN VAN EERDERE ANTE- EN POSTMORTEMKEURINGEN) EN/OF BIJKOMENDE ANALYSERESULTATEN:
A72: DEEL 3 - INFORMATIE VAN BELANG VOOR EXPORT NAAR DERDE LANDEN
A73: Werden de kuikens geboren in België?
A76: Werd het pluimvee gehouden in België?
A79: Het pluimvee werd gevoederd met
A82: Werd er in de afgelopen 12 maand op het bedrijf:
... A103: Verzending onder de verantwoordelijkheid van de exploitant die deze VKI-verklaring heeft ingevuld.
A104: Handtekening producent: | G104: Datum:
A106: DEEL 4 - GOEDKEURING SLACHTHUIS
A107: IK AANVAARD DIT PLUIMVEE VOOR HET SLACHTEN:
A108: Handtekening verantwoordelijke slachthuis: | G108: Datum:
A110: DEEL 5 - FAVV - CONTROLE: VKI GECONTROLEERD
A111: Handtekening officiële dierenarts: | G111: Datum:

Sheet VKI BESLAG 6
A1: VOEDSELKETENINFORMATIE SLACHTPLUIMVEE - braadkippen versie 09/2026 | K1: Vermoedelijke slachtdatum:
A2: DEEL 1 - INFORMATIE OVER PRODUCENT EN BEDRIJFSDIERENARTS | K2: dd-mm-yy
A4: PRODUCENT
A5: Verantwoordelijke: | F5: GSM (of TEL):
A6: Naam bedrijfszetel: | F6: FAX:
A7: Administratief adres: | F7: E-mail:
A10: BEDRIJFSDIERENARTS
A11: NAAM: | F11: GSM (of TEL):
A12: ADRES:
A15: DEEL 2 - INFORMATIE OVER HET LOT PLUIMVEE
A16: BESLAG:
A17: Beslagnummer (formaat BEXXXXXXXX-030X):
A18: Adres beslag: | F18: Aantal opgezette dieren:
F19: Aantal dieren naar slachthuis:
A20: Naam vangploeg: | F20: *Gecum. Dag. sterftepercentage:
A21: Bijkomde informatie: | F21: Totaal sterftepercentage:
A22: Soort pluimvee: | B22: BRAADKIPPEN | F22: * verplicht in te vullen + uitvallijst meesturen met VKI
A23: Ras: | F23: Gemiddeld gewicht in kg/kip:
A24: Kwaliteitslabel: | F24: Bezettingsdichtheid > 33 kg/m² ?
A25: Geboortedatum: | B25: dd-mm-yy
A27: INFO VOEDER: (laatste 6 weken)
A28: Naam voederleverancier:
A29: Naam leverancier enkelvoudige grondstoffen:
A30: Naam geneesmiddel / gemedicineerde voeders / voederadditief (kies uit dropdown-lijst:) | G30: Begindatum | H30: Einddatum | I30: Wachttijd | K30: Toegestane uiterste toedieningsdatum:
G31: dd-mm-yy | H31: dd-mm-yy | I31: =IFERROR(VLOOKUP(A31,'Producten + wachttijd'!$A$2:$C$1000,3,FALSE),0) -> 0 | K31: =IFERROR(slachtdatum-I31-1,"")
G32: dd-mm-yy | H32: dd-mm-yy | I32: =IFERROR(VLOOKUP(A32,'Producten + wachttijd'!$A$2:$C$1000,3,FALSE),0) -> 0 | K32: =IFERROR(slachtdatum-I32-1,"")
G33: dd-mm-yy | H33: dd-mm-yy | I33: =IFERROR(VLOOKUP(A33,'Producten + wachttijd'!$A$2:$C$1000,3,FALSE),0) -> 0 | K33: =IFERROR(slachtdatum-I33-1,"")
G34: dd-mm-yy | H34: dd-mm-yy | I34: =IFERROR(VLOOKUP(A34,'Producten + wachttijd'!$A$2:$C$1000,3,FALSE),0) -> 0 | K34: =IFERROR(slachtdatum-I34-1,"")
A35: x
A36: x
A37: x
A38: INFO ZIEKTEN, SYMPTOMEN EN GENEESMIDDELEN: (laatste 6 weken)
A39: Geneesmiddelenbehandeling | H39: Ziekten / symptomen | J39: Leeftijd dieren in dagen | K39: Toegestane uiterste toedieningsdatum:
A40: Naam (kies uit dropdown-lijst) | E40: Begindatum | F40: Einddatum | G40: Wachttijd
E41: dd-mm-yy | F41: dd-mm-yy | G41: =IFERROR(VLOOKUP(A41,'Producten + wachttijd'!$D$2:$F$1000,3,FALSE),0) -> 0 | J41: =IFERROR(IF(OR(E41="",A41=65,A41=66),"",CONCATENATE(E41-$B$25+1," dag(en)")),"") | K41: =IFERROR(slachtdatum-G41-1,"")
E42: dd-mm-yy | F42: dd-mm-yy | G42: =IFERROR(VLOOKUP(A42,'Producten + wachttijd'!$D$2:$F$1000,3,FALSE),0) -> 0 | J42: =IFERROR(IF(OR(E42="",A42=65,A42=66),"",CONCATENATE(E42-$B$25+1," dag(en)")),"") | K42: =IFERROR(slachtdatum-G42-1,"")
E43: dd-mm-yy | F43: dd-mm-yy | G43: =IFERROR(VLOOKUP(A43,'Producten + wachttijd'!$D$2:$F$1000,3,FALSE),0) -> 0 | J43: =IFERROR(IF(OR(E43="",A43=65,A43=66),"",CONCATENATE(E43-$B$25+1," dag(en)")),"") | K43: =IFERROR(slachtdatum-G43-1,"")
E44: dd-mm-yy | F44: dd-mm-yy | G44: =IFERROR(VLOOKUP(A44,'Producten + wachttijd'!$D$2:$F$1000,3,FALSE),0) -> 0 | J44: =IFERROR(IF(OR(E44="",A44=65,A44=66),"",CONCATENATE(E44-$B$25+1," dag(en)")),"") | K44: =IFERROR(slachtdatum-G44-1,"")
E45: dd-mm-yy | F45: dd-mm-yy | G45: =IFERROR(VLOOKUP(A45,'Producten + wachttijd'!$D$2:$F$1000,3,FALSE),0) -> 0 | J45: =IFERROR(IF(OR(E45="",A45=65,A45=66),"",CONCATENATE(E45-$B$25+1," dag(en)")),"") | K45: =IFERROR(slachtdatum-G45-1,"")
A49: Zijn er bijkomende ziektesymptomen die de veiligheid van het vlees in het gedrang brengen?
A50: Bijkomende ziektesymptomen:
A51: INFO VACCINATIE: (laatste 6 weken) | K51: Toegestane uiterste toedieningsdatum:
A52: Naam (kies uit dropdown-lijst) | E52: Toedienigs datum | F52: Manier van toediening (dropdown-lijst) | G52: Wachttijd | H52: Ziekten | J52: Leeftijd dieren in dagen
E54: dd-mm-yy | G54: =IFERROR(VLOOKUP(A54,'Producten + wachttijd'!$G$2:$I$1000,3,FALSE),0) -> 0 | H54: =IFERROR(VLOOKUP(A54,'Producten + wachttijd'!$G$2:$J$1000,4,FALSE),"") | J54: =IFERROR(IF(OR(E54="",A54=65,A54=66),"",CONCATENATE(E54-$B$25+1," dag(en)")),"") | K54: =IFERROR(slachtdatum-G54-1,"")
E55: dd-mm-yy | G55: =IFERROR(VLOOKUP(A55,'Producten + wachttijd'!$G$2:$I$1000,3,FALSE),0) -> 0 | H55: =IFERROR(VLOOKUP(A55,'Producten + wachttijd'!$G$2:$J$1000,4,FALSE),"") | J55: =IFERROR(IF(OR(E55="",A55=65,A55=66),"",CONCATENATE(E55-$B$25+1," dag(en)")),"") | K55: =IFERROR(slachtdatum-G55-1,"")
E56: dd-mm-yy | G56: =IFERROR(VLOOKUP(A56,'Producten + wachttijd'!$G$2:$I$1000,3,FALSE),0) -> 0 | H56: =IFERROR(VLOOKUP(A56,'Producten + wachttijd'!$G$2:$J$1000,4,FALSE),"") | J56: =IFERROR(IF(OR(E56="",A56=65,A56=66),"",CONCATENATE(E56-$B$25+1," dag(en)")),"") | K56: =IFERROR(slachtdatum-G56-1,"")
E57: dd-mm-yy | G57: =IFERROR(VLOOKUP(A57,'Producten + wachttijd'!$G$2:$I$1000,3,FALSE),0) -> 0 | H57: =IFERROR(VLOOKUP(A57,'Producten + wachttijd'!$G$2:$J$1000,4,FALSE),"") | J57: =IFERROR(IF(OR(E57="",A57=65,A57=66),"",CONCATENATE(E57-$B$25+1," dag(en)")),"") | K57: =IFERROR(slachtdatum-G57-1,"")
E58: dd-mm-yy | G58: =IFERROR(VLOOKUP(A58,'Producten + wachttijd'!$G$2:$I$1000,3,FALSE),0) -> 0 | H58: =IFERROR(VLOOKUP(A58,'Producten + wachttijd'!$G$2:$J$1000,4,FALSE),"") | J58: =IFERROR(IF(OR(E58="",A58=65,A58=66),"",CONCATENATE(E58-$B$25+1," dag(en)")),"") | K58: =IFERROR(slachtdatum-G58-1,"")
A62: ONDERZOEKEN UITGEVOERD IN HET KADER VAN DE VOEDSELVEILIGHEID
A63: Omschrijving Salmonella controle | F63: Referentienummer beproevingsverslag + eventuele opmerkingen
A64: Ingangscontrole
A65: Serotypering:
A66: Beslagnummer broeierij
A67: Uitgangscontrole
A68: Serotypering:
A69: Het bedrijf van herkomst van de dieren is onderworpen aan een versterkte controle overeenkomstig het Koninklijk Besluit van 27/02/2013?
A70: BIJZONDERE VERMELDINGEN (BV. RELEVANTE RESULTATEN VAN EERDERE ANTE- EN POSTMORTEMKEURINGEN) EN/OF BIJKOMENDE ANALYSERESULTATEN:
A72: DEEL 3 - INFORMATIE VAN BELANG VOOR EXPORT NAAR DERDE LANDEN
A73: Werden de kuikens geboren in België?
A76: Werd het pluimvee gehouden in België?
A79: Het pluimvee werd gevoederd met
A82: Werd er in de afgelopen 12 maand op het bedrijf:
... A103: Verzending onder de verantwoordelijkheid van de exploitant die deze VKI-verklaring heeft ingevuld.
A104: Handtekening producent: | G104: Datum:
A106: DEEL 4 - GOEDKEURING SLACHTHUIS
A107: IK AANVAARD DIT PLUIMVEE VOOR HET SLACHTEN:
A108: Handtekening verantwoordelijke slachthuis: | G108: Datum:
A110: DEEL 5 - FAVV - CONTROLE: VKI GECONTROLEERD
A111: Handtekening officiële dierenarts: | G111: Datum:

Sheet VKI BESLAG 7
A1: VOEDSELKETENINFORMATIE SLACHTPLUIMVEE - braadkippen versie 09/2026 | K1: Vermoedelijke slachtdatum:
A2: DEEL 1 - INFORMATIE OVER PRODUCENT EN BEDRIJFSDIERENARTS | K2: dd-mm-yy
A4: PRODUCENT
A5: Verantwoordelijke: | F5: GSM (of TEL):
A6: Naam bedrijfszetel: | F6: FAX:
A7: Administratief adres: | F7: E-mail:
A10: BEDRIJFSDIERENARTS
A11: NAAM: | F11: GSM (of TEL):
A12: ADRES:
A15: DEEL 2 - INFORMATIE OVER HET LOT PLUIMVEE
A16: BESLAG:
A17: Beslagnummer (formaat BEXXXXXXXX-030X):
A18: Adres beslag: | F18: Aantal opgezette dieren:
F19: Aantal dieren naar slachthuis:
A20: Naam vangploeg: | F20: *Gecum. Dag. sterftepercentage:
A21: Bijkomde informatie: | F21: Totaal sterftepercentage:
A22: Soort pluimvee: | B22: BRAADKIPPEN | F22: * verplicht in te vullen + uitvallijst meesturen met VKI
A23: Ras: | F23: Gemiddeld gewicht in kg/kip:
A24: Kwaliteitslabel: | F24: Bezettingsdichtheid > 33 kg/m² ?
A25: Geboortedatum: | B25: dd-mm-yy
A27: INFO VOEDER: (laatste 6 weken)
A28: Naam voederleverancier:
A29: Naam leverancier enkelvoudige grondstoffen:
A30: Naam geneesmiddel / gemedicineerde voeders / voederadditief (kies uit dropdown-lijst:) | G30: Begindatum | H30: Einddatum | I30: Wachttijd | K30: Toegestane uiterste toedieningsdatum:
G31: dd-mm-yy | H31: dd-mm-yy | I31: =IFERROR(VLOOKUP(A31,'Producten + wachttijd'!$A$2:$C$1000,3,FALSE),0) -> 0 | K31: =IFERROR(slachtdatum-I31-1,"")
G32: dd-mm-yy | H32: dd-mm-yy | I32: =IFERROR(VLOOKUP(A32,'Producten + wachttijd'!$A$2:$C$1000,3,FALSE),0) -> 0 | K32: =IFERROR(slachtdatum-I32-1,"")
G33: dd-mm-yy | H33: dd-mm-yy | I33: =IFERROR(VLOOKUP(A33,'Producten + wachttijd'!$A$2:$C$1000,3,FALSE),0) -> 0 | K33: =IFERROR(slachtdatum-I33-1,"")
G34: dd-mm-yy | H34: dd-mm-yy | I34: =IFERROR(VLOOKUP(A34,'Producten + wachttijd'!$A$2:$C$1000,3,FALSE),0) -> 0 | K34: =IFERROR(slachtdatum-I34-1,"")
A35: x
A36: x
A37: x
A38: INFO ZIEKTEN, SYMPTOMEN EN GENEESMIDDELEN: (laatste 6 weken)
A39: Geneesmiddelenbehandeling | H39: Ziekten / symptomen | J39: Leeftijd dieren in dagen | K39: Toegestane uiterste toedieningsdatum:
A40: Naam (kies uit dropdown-lijst) | E40: Begindatum | F40: Einddatum | G40: Wachttijd
E41: dd-mm-yy | F41: dd-mm-yy | G41: =IFERROR(VLOOKUP(A41,'Producten + wachttijd'!$D$2:$F$1000,3,FALSE),0) -> 0 | J41: =IFERROR(IF(OR(E41="",A41=65,A41=66),"",CONCATENATE(E41-$B$25+1," dag(en)")),"") | K41: =IFERROR(slachtdatum-G41-1,"")
E42: dd-mm-yy | F42: dd-mm-yy | G42: =IFERROR(VLOOKUP(A42,'Producten + wachttijd'!$D$2:$F$1000,3,FALSE),0) -> 0 | J42: =IFERROR(IF(OR(E42="",A42=65,A42=66),"",CONCATENATE(E42-$B$25+1," dag(en)")),"") | K42: =IFERROR(slachtdatum-G42-1,"")
E43: dd-mm-yy | F43: dd-mm-yy | G43: =IFERROR(VLOOKUP(A43,'Producten + wachttijd'!$D$2:$F$1000,3,FALSE),0) -> 0 | J43: =IFERROR(IF(OR(E43="",A43=65,A43=66),"",CONCATENATE(E43-$B$25+1," dag(en)")),"") | K43: =IFERROR(slachtdatum-G43-1,"")
E44: dd-mm-yy | F44: dd-mm-yy | G44: =IFERROR(VLOOKUP(A44,'Producten + wachttijd'!$D$2:$F$1000,3,FALSE),0) -> 0 | J44: =IFERROR(IF(OR(E44="",A44=65,A44=66),"",CONCATENATE(E44-$B$25+1," dag(en)")),"") | K44: =IFERROR(slachtdatum-G44-1,"")
E45: dd-mm-yy | F45: dd-mm-yy | G45: =IFERROR(VLOOKUP(A45,'Producten + wachttijd'!$D$2:$F$1000,3,FALSE),0) -> 0 | J45: =IFERROR(IF(OR(E45="",A45=65,A45=66),"",CONCATENATE(E45-$B$25+1," dag(en)")),"") | K45: =IFERROR(slachtdatum-G45-1,"")
A49: Zijn er bijkomende ziektesymptomen die de veiligheid van het vlees in het gedrang brengen?
A50: Bijkomende ziektesymptomen:
A51: INFO VACCINATIE: (laatste 6 weken) | K51: Toegestane uiterste toedieningsdatum:
A52: Naam (kies uit dropdown-lijst) | E52: Toedienigs datum | F52: Manier van toediening (dropdown-lijst) | G52: Wachttijd | H52: Ziekten | J52: Leeftijd dieren in dagen
E54: dd-mm-yy | G54: =IFERROR(VLOOKUP(A54,'Producten + wachttijd'!$G$2:$I$1000,3,FALSE),0) -> 0 | H54: =IFERROR(VLOOKUP(A54,'Producten + wachttijd'!$G$2:$J$1000,4,FALSE),"") | J54: =IFERROR(IF(OR(E54="",A54=65,A54=66),"",CONCATENATE(E54-$B$25+1," dag(en)")),"") | K54: =IFERROR(slachtdatum-G54-1,"")
E55: dd-mm-yy | G55: =IFERROR(VLOOKUP(A55,'Producten + wachttijd'!$G$2:$I$1000,3,FALSE),0) -> 0 | H55: =IFERROR(VLOOKUP(A55,'Producten + wachttijd'!$G$2:$J$1000,4,FALSE),"") | J55: =IFERROR(IF(OR(E55="",A55=65,A55=66),"",CONCATENATE(E55-$B$25+1," dag(en)")),"") | K55: =IFERROR(slachtdatum-G55-1,"")
E56: dd-mm-yy | G56: =IFERROR(VLOOKUP(A56,'Producten + wachttijd'!$G$2:$I$1000,3,FALSE),0) -> 0 | H56: =IFERROR(VLOOKUP(A56,'Producten + wachttijd'!$G$2:$J$1000,4,FALSE),"") | J56: =IFERROR(IF(OR(E56="",A56=65,A56=66),"",CONCATENATE(E56-$B$25+1," dag(en)")),"") | K56: =IFERROR(slachtdatum-G56-1,"")
E57: dd-mm-yy | G57: =IFERROR(VLOOKUP(A57,'Producten + wachttijd'!$G$2:$I$1000,3,FALSE),0) -> 0 | H57: =IFERROR(VLOOKUP(A57,'Producten + wachttijd'!$G$2:$J$1000,4,FALSE),"") | J57: =IFERROR(IF(OR(E57="",A57=65,A57=66),"",CONCATENATE(E57-$B$25+1," dag(en)")),"") | K57: =IFERROR(slachtdatum-G57-1,"")
E58: dd-mm-yy | G58: =IFERROR(VLOOKUP(A58,'Producten + wachttijd'!$G$2:$I$1000,3,FALSE),0) -> 0 | H58: =IFERROR(VLOOKUP(A58,'Producten + wachttijd'!$G$2:$J$1000,4,FALSE),"") | J58: =IFERROR(IF(OR(E58="",A58=65,A58=66),"",CONCATENATE(E58-$B$25+1," dag(en)")),"") | K58: =IFERROR(slachtdatum-G58-1,"")
A62: ONDERZOEKEN UITGEVOERD IN HET KADER VAN DE VOEDSELVEILIGHEID
A63: Omschrijving Salmonella controle | F63: Referentienummer beproevingsverslag + eventuele opmerkingen
A64: Ingangscontrole
A65: Serotypering:
A66: Beslagnummer broeierij
A67: Uitgangscontrole
A68: Serotypering:
A69: Het bedrijf van herkomst van de dieren is onderworpen aan een versterkte controle overeenkomstig het Koninklijk Besluit van 27/02/2013?
A70: BIJZONDERE VERMELDINGEN (BV. RELEVANTE RESULTATEN VAN EERDERE ANTE- EN POSTMORTEMKEURINGEN) EN/OF BIJKOMENDE ANALYSERESULTATEN:
A72: DEEL 3 - INFORMATIE VAN BELANG VOOR EXPORT NAAR DERDE LANDEN
A73: Werden de kuikens geboren in België?
A76: Werd het pluimvee gehouden in België?
A79: Het pluimvee werd gevoederd met
A82: Werd er in de afgelopen 12 maand op het bedrijf:
... A103: Verzending onder de verantwoordelijkheid van de exploitant die deze VKI-verklaring heeft ingevuld.
A104: Handtekening producent: | G104: Datum:
A106: DEEL 4 - GOEDKEURING SLACHTHUIS
A107: IK AANVAARD DIT PLUIMVEE VOOR HET SLACHTEN:
A108: Handtekening verantwoordelijke slachthuis: | G108: Datum:
A110: DEEL 5 - FAVV - CONTROLE: VKI GECONTROLEERD
A111: Handtekening officiële dierenarts: | G111: Datum:

Sheet VKI BESLAG 8
A1: VOEDSELKETENINFORMATIE SLACHTPLUIMVEE - braadkippen versie 09/2026 | K1: Vermoedelijke slachtdatum:
A2: DEEL 1 - INFORMATIE OVER PRODUCENT EN BEDRIJFSDIERENARTS | K2: dd-mm-yy
A4: PRODUCENT
A5: Verantwoordelijke: | F5: GSM (of TEL):
A6: Naam bedrijfszetel: | F6: FAX:
A7: Administratief adres: | F7: E-mail:
A10: BEDRIJFSDIERENARTS
A11: NAAM: | F11: GSM (of TEL):
A12: ADRES:
A15: DEEL 2 - INFORMATIE OVER HET LOT PLUIMVEE
A16: BESLAG:
A17: Beslagnummer (formaat BEXXXXXXXX-030X):
A18: Adres beslag: | F18: Aantal opgezette dieren:
F19: Aantal dieren naar slachthuis:
A20: Naam vangploeg: | F20: *Gecum. Dag. sterftepercentage:
A21: Bijkomde informatie: | F21: Totaal sterftepercentage:
A22: Soort pluimvee: | B22: BRAADKIPPEN | F22: * verplicht in te vullen + uitvallijst meesturen met VKI
A23: Ras: | F23: Gemiddeld gewicht in kg/kip:
A24: Kwaliteitslabel: | F24: Bezettingsdichtheid > 33 kg/m² ?
A25: Geboortedatum: | B25: dd-mm-yy
A27: INFO VOEDER: (laatste 6 weken)
A28: Naam voederleverancier:
A29: Naam leverancier enkelvoudige grondstoffen:
A30: Naam geneesmiddel / gemedicineerde voeders / voederadditief (kies uit dropdown-lijst:) | G30: Begindatum | H30: Einddatum | I30: Wachttijd | K30: Toegestane uiterste toedieningsdatum:
G31: dd-mm-yy | H31: dd-mm-yy | I31: =IFERROR(VLOOKUP(A31,'Producten + wachttijd'!$A$2:$C$1000,3,FALSE),0) -> 0 | K31: =IFERROR(slachtdatum-I31-1,"")
G32: dd-mm-yy | H32: dd-mm-yy | I32: =IFERROR(VLOOKUP(A32,'Producten + wachttijd'!$A$2:$C$1000,3,FALSE),0) -> 0 | K32: =IFERROR(slachtdatum-I32-1,"")
G33: dd-mm-yy | H33: dd-mm-yy | I33: =IFERROR(VLOOKUP(A33,'Producten + wachttijd'!$A$2:$C$1000,3,FALSE),0) -> 0 | K33: =IFERROR(slachtdatum-I33-1,"")
G34: dd-mm-yy | H34: dd-mm-yy | I34: =IFERROR(VLOOKUP(A34,'Producten + wachttijd'!$A$2:$C$1000,3,FALSE),0) -> 0 | K34: =IFERROR(slachtdatum-I34-1,"")
A35: x
A36: x
A37: x
A38: INFO ZIEKTEN, SYMPTOMEN EN GENEESMIDDELEN: (laatste 6 weken)
A39: Geneesmiddelenbehandeling | H39: Ziekten / symptomen | J39: Leeftijd dieren in dagen | K39: Toegestane uiterste toedieningsdatum:
A40: Naam (kies uit dropdown-lijst) | E40: Begindatum | F40: Einddatum | G40: Wachttijd
E41: dd-mm-yy | F41: dd-mm-yy | G41: =IFERROR(VLOOKUP(A41,'Producten + wachttijd'!$D$2:$F$1000,3,FALSE),0) -> 0 | J41: =IFERROR(IF(OR(E41="",A41=65,A41=66),"",CONCATENATE(E41-$B$25+1," dag(en)")),"") | K41: =IFERROR(slachtdatum-G41-1,"")
E42: dd-mm-yy | F42: dd-mm-yy | G42: =IFERROR(VLOOKUP(A42,'Producten + wachttijd'!$D$2:$F$1000,3,FALSE),0) -> 0 | J42: =IFERROR(IF(OR(E42="",A42=65,A42=66),"",CONCATENATE(E42-$B$25+1," dag(en)")),"") | K42: =IFERROR(slachtdatum-G42-1,"")
E43: dd-mm-yy | F43: dd-mm-yy | G43: =IFERROR(VLOOKUP(A43,'Producten + wachttijd'!$D$2:$F$1000,3,FALSE),0) -> 0 | J43: =IFERROR(IF(OR(E43="",A43=65,A43=66),"",CONCATENATE(E43-$B$25+1," dag(en)")),"") | K43: =IFERROR(slachtdatum-G43-1,"")
E44: dd-mm-yy | F44: dd-mm-yy | G44: =IFERROR(VLOOKUP(A44,'Producten + wachttijd'!$D$2:$F$1000,3,FALSE),0) -> 0 | J44: =IFERROR(IF(OR(E44="",A44=65,A44=66),"",CONCATENATE(E44-$B$25+1," dag(en)")),"") | K44: =IFERROR(slachtdatum-G44-1,"")
E45: dd-mm-yy | F45: dd-mm-yy | G45: =IFERROR(VLOOKUP(A45,'Producten + wachttijd'!$D$2:$F$1000,3,FALSE),0) -> 0 | J45: =IFERROR(IF(OR(E45="",A45=65,A45=66),"",CONCATENATE(E45-$B$25+1," dag(en)")),"") | K45: =IFERROR(slachtdatum-G45-1,"")
A49: Zijn er bijkomende ziektesymptomen die de veiligheid van het vlees in het gedrang brengen?
A50: Bijkomende ziektesymptomen:
A51: INFO VACCINATIE: (laatste 6 weken) | K51: Toegestane uiterste toedieningsdatum:
A52: Naam (kies uit dropdown-lijst) | E52: Toedienigs datum | F52: Manier van toediening (dropdown-lijst) | G52: Wachttijd | H52: Ziekten | J52: Leeftijd dieren in dagen
E54: dd-mm-yy | G54: =IFERROR(VLOOKUP(A54,'Producten + wachttijd'!$G$2:$I$1000,3,FALSE),0) -> 0 | H54: =IFERROR(VLOOKUP(A54,'Producten + wachttijd'!$G$2:$J$1000,4,FALSE),"") | J54: =IFERROR(IF(OR(E54="",A54=65,A54=66),"",CONCATENATE(E54-$B$25+1," dag(en)")),"") | K54: =IFERROR(slachtdatum-G54-1,"")
E55: dd-mm-yy | G55: =IFERROR(VLOOKUP(A55,'Producten + wachttijd'!$G$2:$I$1000,3,FALSE),0) -> 0 | H55: =IFERROR(VLOOKUP(A55,'Producten + wachttijd'!$G$2:$J$1000,4,FALSE),"") | J55: =IFERROR(IF(OR(E55="",A55=65,A55=66),"",CONCATENATE(E55-$B$25+1," dag(en)")),"") | K55: =IFERROR(slachtdatum-G55-1,"")
E56: dd-mm-yy | G56: =IFERROR(VLOOKUP(A56,'Producten + wachttijd'!$G$2:$I$1000,3,FALSE),0) -> 0 | H56: =IFERROR(VLOOKUP(A56,'Producten + wachttijd'!$G$2:$J$1000,4,FALSE),"") | J56: =IFERROR(IF(OR(E56="",A56=65,A56=66),"",CONCATENATE(E56-$B$25+1," dag(en)")),"") | K56: =IFERROR(slachtdatum-G56-1,"")
E57: dd-mm-yy | G57: =IFERROR(VLOOKUP(A57,'Producten + wachttijd'!$G$2:$I$1000,3,FALSE),0) -> 0 | H57: =IFERROR(VLOOKUP(A57,'Producten + wachttijd'!$G$2:$J$1000,4,FALSE),"") | J57: =IFERROR(IF(OR(E57="",A57=65,A57=66),"",CONCATENATE(E57-$B$25+1," dag(en)")),"") | K57: =IFERROR(slachtdatum-G57-1,"")
E58: dd-mm-yy | G58: =IFERROR(VLOOKUP(A58,'Producten + wachttijd'!$G$2:$I$1000,3,FALSE),0) -> 0 | H58: =IFERROR(VLOOKUP(A58,'Producten + wachttijd'!$G$2:$J$1000,4,FALSE),"") | J58: =IFERROR(IF(OR(E58="",A58=65,A58=66),"",CONCATENATE(E58-$B$25+1," dag(en)")),"") | K58: =IFERROR(slachtdatum-G58-1,"")
A62: ONDERZOEKEN UITGEVOERD IN HET KADER VAN DE VOEDSELVEILIGHEID
A63: Omschrijving Salmonella controle | F63: Referentienummer beproevingsverslag + eventuele opmerkingen
A64: Ingangscontrole
A65: Serotypering:
A66: Beslagnummer broeierij
A67: Uitgangscontrole
A68: Serotypering:
A69: Het bedrijf van herkomst van de dieren is onderworpen aan een versterkte controle overeenkomstig het Koninklijk Besluit van 27/02/2013?
A70: BIJZONDERE VERMELDINGEN (BV. RELEVANTE RESULTATEN VAN EERDERE ANTE- EN POSTMORTEMKEURINGEN) EN/OF BIJKOMENDE ANALYSERESULTATEN:
A72: DEEL 3 - INFORMATIE VAN BELANG VOOR EXPORT NAAR DERDE LANDEN
A73: Werden de kuikens geboren in België?
A76: Werd het pluimvee gehouden in België?
A79: Het pluimvee werd gevoederd met
A82: Werd er in de afgelopen 12 maand op het bedrijf:
... A103: Verzending onder de verantwoordelijkheid van de exploitant die deze VKI-verklaring heeft ingevuld.
A104: Handtekening producent: | G104: Datum:
A106: DEEL 4 - GOEDKEURING SLACHTHUIS
A107: IK AANVAARD DIT PLUIMVEE VOOR HET SLACHTEN:
A108: Handtekening verantwoordelijke slachthuis: | G108: Datum:
A110: DEEL 5 - FAVV - CONTROLE: VKI GECONTROLEERD
A111: Handtekening officiële dierenarts: | G111: Datum:

Sheet VKI BESLAG 9
A1: VOEDSELKETENINFORMATIE SLACHTPLUIMVEE - braadkippen versie 09/2026 | K1: Vermoedelijke slachtdatum:
A2: DEEL 1 - INFORMATIE OVER PRODUCENT EN BEDRIJFSDIERENARTS | K2: dd-mm-yy
A4: PRODUCENT
A5: Verantwoordelijke: | F5: GSM (of TEL):
A6: Naam bedrijfszetel: | F6: FAX:
A7: Administratief adres: | F7: E-mail:
A10: BEDRIJFSDIERENARTS
A11: NAAM: | F11: GSM (of TEL):
A12: ADRES:
A15: DEEL 2 - INFORMATIE OVER HET LOT PLUIMVEE
A16: BESLAG:
A17: Beslagnummer (formaat BEXXXXXXXX-030X):
A18: Adres beslag: | F18: Aantal opgezette dieren:
F19: Aantal dieren naar slachthuis:
A20: Naam vangploeg: | F20: *Gecum. Dag. sterftepercentage:
A21: Bijkomde informatie: | F21: Totaal sterftepercentage:
A22: Soort pluimvee: | B22: BRAADKIPPEN | F22: * verplicht in te vullen + uitvallijst meesturen met VKI
A23: Ras: | F23: Gemiddeld gewicht in kg/kip:
A24: Kwaliteitslabel: | F24: Bezettingsdichtheid > 33 kg/m² ?
A25: Geboortedatum: | B25: dd-mm-yy
A27: INFO VOEDER: (laatste 6 weken)
A28: Naam voederleverancier:
A29: Naam leverancier enkelvoudige grondstoffen:
A30: Naam geneesmiddel / gemedicineerde voeders / voederadditief (kies uit dropdown-lijst:) | G30: Begindatum | H30: Einddatum | I30: Wachttijd | K30: Toegestane uiterste toedieningsdatum:
G31: dd-mm-yy | H31: dd-mm-yy | I31: =IFERROR(VLOOKUP(A31,'Producten + wachttijd'!$A$2:$C$1000,3,FALSE),0) -> 0 | K31: =IFERROR(slachtdatum-I31-1,"")
G32: dd-mm-yy | H32: dd-mm-yy | I32: =IFERROR(VLOOKUP(A32,'Producten + wachttijd'!$A$2:$C$1000,3,FALSE),0) -> 0 | K32: =IFERROR(slachtdatum-I32-1,"")
G33: dd-mm-yy | H33: dd-mm-yy | I33: =IFERROR(VLOOKUP(A33,'Producten + wachttijd'!$A$2:$C$1000,3,FALSE),0) -> 0 | K33: =IFERROR(slachtdatum-I33-1,"")
G34: dd-mm-yy | H34: dd-mm-yy | I34: =IFERROR(VLOOKUP(A34,'Producten + wachttijd'!$A$2:$C$1000,3,FALSE),0) -> 0 | K34: =IFERROR(slachtdatum-I34-1,"")
A35: x
A36: x
A37: x
A38: INFO ZIEKTEN, SYMPTOMEN EN GENEESMIDDELEN: (laatste 6 weken)
A39: Geneesmiddelenbehandeling | H39: Ziekten / symptomen | J39: Leeftijd dieren in dagen | K39: Toegestane uiterste toedieningsdatum:
A40: Naam (kies uit dropdown-lijst) | E40: Begindatum | F40: Einddatum | G40: Wachttijd
E41: dd-mm-yy | F41: dd-mm-yy | G41: =IFERROR(VLOOKUP(A41,'Producten + wachttijd'!$D$2:$F$1000,3,FALSE),0) -> 0 | J41: =IFERROR(IF(OR(E41="",A41=65,A41=66),"",CONCATENATE(E41-$B$25+1," dag(en)")),"") | K41: =IFERROR(slachtdatum-G41-1,"")
E42: dd-mm-yy | F42: dd-mm-yy | G42: =IFERROR(VLOOKUP(A42,'Producten + wachttijd'!$D$2:$F$1000,3,FALSE),0) -> 0 | J42: =IFERROR(IF(OR(E42="",A42=65,A42=66),"",CONCATENATE(E42-$B$25+1," dag(en)")),"") | K42: =IFERROR(slachtdatum-G42-1,"")
E43: dd-mm-yy | F43: dd-mm-yy | G43: =IFERROR(VLOOKUP(A43,'Producten + wachttijd'!$D$2:$F$1000,3,FALSE),0) -> 0 | J43: =IFERROR(IF(OR(E43="",A43=65,A43=66),"",CONCATENATE(E43-$B$25+1," dag(en)")),"") | K43: =IFERROR(slachtdatum-G43-1,"")
E44: dd-mm-yy | F44: dd-mm-yy | G44: =IFERROR(VLOOKUP(A44,'Producten + wachttijd'!$D$2:$F$1000,3,FALSE),0) -> 0 | J44: =IFERROR(IF(OR(E44="",A44=65,A44=66),"",CONCATENATE(E44-$B$25+1," dag(en)")),"") | K44: =IFERROR(slachtdatum-G44-1,"")
E45: dd-mm-yy | F45: dd-mm-yy | G45: =IFERROR(VLOOKUP(A45,'Producten + wachttijd'!$D$2:$F$1000,3,FALSE),0) -> 0 | J45: =IFERROR(IF(OR(E45="",A45=65,A45=66),"",CONCATENATE(E45-$B$25+1," dag(en)")),"") | K45: =IFERROR(slachtdatum-G45-1,"")
A49: Zijn er bijkomende ziektesymptomen die de veiligheid van het vlees in het gedrang brengen?
A50: Bijkomende ziektesymptomen:
A51: INFO VACCINATIE: (laatste 6 weken) | K51: Toegestane uiterste toedieningsdatum:
A52: Naam (kies uit dropdown-lijst) | E52: Toedienigs datum | F52: Manier van toediening (dropdown-lijst) | G52: Wachttijd | H52: Ziekten | J52: Leeftijd dieren in dagen
E54: dd-mm-yy | G54: =IFERROR(VLOOKUP(A54,'Producten + wachttijd'!$G$2:$I$1000,3,FALSE),0) -> 0 | H54: =IFERROR(VLOOKUP(A54,'Producten + wachttijd'!$G$2:$J$1000,4,FALSE),"") | J54: =IFERROR(IF(OR(E54="",A54=65,A54=66),"",CONCATENATE(E54-$B$25+1," dag(en)")),"") | K54: =IFERROR(slachtdatum-G54-1,"")
E55: dd-mm-yy | G55: =IFERROR(VLOOKUP(A55,'Producten + wachttijd'!$G$2:$I$1000,3,FALSE),0) -> 0 | H55: =IFERROR(VLOOKUP(A55,'Producten + wachttijd'!$G$2:$J$1000,4,FALSE),"") | J55: =IFERROR(IF(OR(E55="",A55=65,A55=66),"",CONCATENATE(E55-$B$25+1," dag(en)")),"") | K55: =IFERROR(slachtdatum-G55-1,"")
E56: dd-mm-yy | G56: =IFERROR(VLOOKUP(A56,'Producten + wachttijd'!$G$2:$I$1000,3,FALSE),0) -> 0 | H56: =IFERROR(VLOOKUP(A56,'Producten + wachttijd'!$G$2:$J$1000,4,FALSE),"") | J56: =IFERROR(IF(OR(E56="",A56=65,A56=66),"",CONCATENATE(E56-$B$25+1," dag(en)")),"") | K56: =IFERROR(slachtdatum-G56-1,"")
E57: dd-mm-yy | G57: =IFERROR(VLOOKUP(A57,'Producten + wachttijd'!$G$2:$I$1000,3,FALSE),0) -> 0 | H57: =IFERROR(VLOOKUP(A57,'Producten + wachttijd'!$G$2:$J$1000,4,FALSE),"") | J57: =IFERROR(IF(OR(E57="",A57=65,A57=66),"",CONCATENATE(E57-$B$25+1," dag(en)")),"") | K57: =IFERROR(slachtdatum-G57-1,"")
E58: dd-mm-yy | G58: =IFERROR(VLOOKUP(A58,'Producten + wachttijd'!$G$2:$I$1000,3,FALSE),0) -> 0 | H58: =IFERROR(VLOOKUP(A58,'Producten + wachttijd'!$G$2:$J$1000,4,FALSE),"") | J58: =IFERROR(IF(OR(E58="",A58=65,A58=66),"",CONCATENATE(E58-$B$25+1," dag(en)")),"") | K58: =IFERROR(slachtdatum-G58-1,"")
A62: ONDERZOEKEN UITGEVOERD IN HET KADER VAN DE VOEDSELVEILIGHEID
A63: Omschrijving Salmonella controle | F63: Referentienummer beproevingsverslag + eventuele opmerkingen
A64: Ingangscontrole
A65: Serotypering:
A66: Beslagnummer broeierij
A67: Uitgangscontrole
A68: Serotypering:
A69: Het bedrijf van herkomst van de dieren is onderworpen aan een versterkte controle overeenkomstig het Koninklijk Besluit van 27/02/2013?
A70: BIJZONDERE VERMELDINGEN (BV. RELEVANTE RESULTATEN VAN EERDERE ANTE- EN POSTMORTEMKEURINGEN) EN/OF BIJKOMENDE ANALYSERESULTATEN:
A72: DEEL 3 - INFORMATIE VAN BELANG VOOR EXPORT NAAR DERDE LANDEN
A73: Werden de kuikens geboren in België?
A76: Werd het pluimvee gehouden in België?
A79: Het pluimvee werd gevoederd met
A82: Werd er in de afgelopen 12 maand op het bedrijf:
... A103: Verzending onder de verantwoordelijkheid van de exploitant die deze VKI-verklaring heeft ingevuld.
A104: Handtekening producent: | G104: Datum:
A106: DEEL 4 - GOEDKEURING SLACHTHUIS
A107: IK AANVAARD DIT PLUIMVEE VOOR HET SLACHTEN:
A108: Handtekening verantwoordelijke slachthuis: | G108: Datum:
A110: DEEL 5 - FAVV - CONTROLE: VKI GECONTROLEERD
A111: Handtekening officiële dierenarts: | G111: Datum:

Sheet VKI BESLAG 10
A1: VOEDSELKETENINFORMATIE SLACHTPLUIMVEE - braadkippen versie 09/2026 | K1: Vermoedelijke slachtdatum:
A2: DEEL 1 - INFORMATIE OVER PRODUCENT EN BEDRIJFSDIERENARTS | K2: dd-mm-yy
A4: PRODUCENT
A5: Verantwoordelijke: | F5: GSM (of TEL):
A6: Naam bedrijfszetel: | F6: FAX:
A7: Administratief adres: | F7: E-mail:
A10: BEDRIJFSDIERENARTS
A11: NAAM: | F11: GSM (of TEL):
A12: ADRES:
A15: DEEL 2 - INFORMATIE OVER HET LOT PLUIMVEE
A16: BESLAG:
A17: Beslagnummer (formaat BEXXXXXXXX-030X):
A18: Adres beslag: | F18: Aantal opgezette dieren:
F19: Aantal dieren naar slachthuis:
A20: Naam vangploeg: | F20: *Gecum. Dag. sterftepercentage:
A21: Bijkomde informatie: | F21: Totaal sterftepercentage:
A22: Soort pluimvee: | B22: BRAADKIPPEN | F22: * verplicht in te vullen + uitvallijst meesturen met VKI
A23: Ras: | F23: Gemiddeld gewicht in kg/kip:
A24: Kwaliteitslabel: | F24: Bezettingsdichtheid > 33 kg/m² ?
A25: Geboortedatum: | B25: dd-mm-yy
A27: INFO VOEDER: (laatste 6 weken)
A28: Naam voederleverancier:
A29: Naam leverancier enkelvoudige grondstoffen:
A30: Naam geneesmiddel / gemedicineerde voeders / voederadditief (kies uit dropdown-lijst:) | G30: Begindatum | H30: Einddatum | I30: Wachttijd | K30: Toegestane uiterste toedieningsdatum:
G31: dd-mm-yy | H31: dd-mm-yy | I31: =IFERROR(VLOOKUP(A31,'Producten + wachttijd'!$A$2:$C$1000,3,FALSE),0) -> 0 | K31: =IFERROR(slachtdatum-I31-1,"")
G32: dd-mm-yy | H32: dd-mm-yy | I32: =IFERROR(VLOOKUP(A32,'Producten + wachttijd'!$A$2:$C$1000,3,FALSE),0) -> 0 | K32: =IFERROR(slachtdatum-I32-1,"")
G33: dd-mm-yy | H33: dd-mm-yy | I33: =IFERROR(VLOOKUP(A33,'Producten + wachttijd'!$A$2:$C$1000,3,FALSE),0) -> 0 | K33: =IFERROR(slachtdatum-I33-1,"")
G34: dd-mm-yy | H34: dd-mm-yy | I34: =IFERROR(VLOOKUP(A34,'Producten + wachttijd'!$A$2:$C$1000,3,FALSE),0) -> 0 | K34: =IFERROR(slachtdatum-I34-1,"")
A35: x
A36: x
A37: x
A38: INFO ZIEKTEN, SYMPTOMEN EN GENEESMIDDELEN: (laatste 6 weken)
A39: Geneesmiddelenbehandeling | H39: Ziekten / symptomen | J39: Leeftijd dieren in dagen | K39: Toegestane uiterste toedieningsdatum:
A40: Naam (kies uit dropdown-lijst) | E40: Begindatum | F40: Einddatum | G40: Wachttijd
E41: dd-mm-yy | F41: dd-mm-yy | G41: =IFERROR(VLOOKUP(A41,'Producten + wachttijd'!$D$2:$F$1000,3,FALSE),0) -> 0 | J41: =IFERROR(IF(OR(E41="",A41=65,A41=66),"",CONCATENATE(E41-$B$25+1," dag(en)")),"") | K41: =IFERROR(slachtdatum-G41-1,"")
E42: dd-mm-yy | F42: dd-mm-yy | G42: =IFERROR(VLOOKUP(A42,'Producten + wachttijd'!$D$2:$F$1000,3,FALSE),0) -> 0 | J42: =IFERROR(IF(OR(E42="",A42=65,A42=66),"",CONCATENATE(E42-$B$25+1," dag(en)")),"") | K42: =IFERROR(slachtdatum-G42-1,"")
E43: dd-mm-yy | F43: dd-mm-yy | G43: =IFERROR(VLOOKUP(A43,'Producten + wachttijd'!$D$2:$F$1000,3,FALSE),0) -> 0 | J43: =IFERROR(IF(OR(E43="",A43=65,A43=66),"",CONCATENATE(E43-$B$25+1," dag(en)")),"") | K43: =IFERROR(slachtdatum-G43-1,"")
E44: dd-mm-yy | F44: dd-mm-yy | G44: =IFERROR(VLOOKUP(A44,'Producten + wachttijd'!$D$2:$F$1000,3,FALSE),0) -> 0 | J44: =IFERROR(IF(OR(E44="",A44=65,A44=66),"",CONCATENATE(E44-$B$25+1," dag(en)")),"") | K44: =IFERROR(slachtdatum-G44-1,"")
E45: dd-mm-yy | F45: dd-mm-yy | G45: =IFERROR(VLOOKUP(A45,'Producten + wachttijd'!$D$2:$F$1000,3,FALSE),0) -> 0 | J45: =IFERROR(IF(OR(E45="",A45=65,A45=66),"",CONCATENATE(E45-$B$25+1," dag(en)")),"") | K45: =IFERROR(slachtdatum-G45-1,"")
A49: Zijn er bijkomende ziektesymptomen die de veiligheid van het vlees in het gedrang brengen?
A50: Bijkomende ziektesymptomen:
A51: INFO VACCINATIE: (laatste 6 weken) | K51: Toegestane uiterste toedieningsdatum:
A52: Naam (kies uit dropdown-lijst) | E52: Toedienigs datum | F52: Manier van toediening (dropdown-lijst) | G52: Wachttijd | H52: Ziekten | J52: Leeftijd dieren in dagen
E54: dd-mm-yy | G54: =IFERROR(VLOOKUP(A54,'Producten + wachttijd'!$G$2:$I$1000,3,FALSE),0) -> 0 | H54: =IFERROR(VLOOKUP(A54,'Producten + wachttijd'!$G$2:$J$1000,4,FALSE),"") | J54: =IFERROR(IF(OR(E54="",A54=65,A54=66),"",CONCATENATE(E54-$B$25+1," dag(en)")),"") | K54: =IFERROR(slachtdatum-G54-1,"")
E55: dd-mm-yy | G55: =IFERROR(VLOOKUP(A55,'Producten + wachttijd'!$G$2:$I$1000,3,FALSE),0) -> 0 | H55: =IFERROR(VLOOKUP(A55,'Producten + wachttijd'!$G$2:$J$1000,4,FALSE),"") | J55: =IFERROR(IF(OR(E55="",A55=65,A55=66),"",CONCATENATE(E55-$B$25+1," dag(en)")),"") | K55: =IFERROR(slachtdatum-G55-1,"")
E56: dd-mm-yy | G56: =IFERROR(VLOOKUP(A56,'Producten + wachttijd'!$G$2:$I$1000,3,FALSE),0) -> 0 | H56: =IFERROR(VLOOKUP(A56,'Producten + wachttijd'!$G$2:$J$1000,4,FALSE),"") | J56: =IFERROR(IF(OR(E56="",A56=65,A56=66),"",CONCATENATE(E56-$B$25+1," dag(en)")),"") | K56: =IFERROR(slachtdatum-G56-1,"")
E57: dd-mm-yy | G57: =IFERROR(VLOOKUP(A57,'Producten + wachttijd'!$G$2:$I$1000,3,FALSE),0) -> 0 | H57: =IFERROR(VLOOKUP(A57,'Producten + wachttijd'!$G$2:$J$1000,4,FALSE),"") | J57: =IFERROR(IF(OR(E57="",A57=65,A57=66),"",CONCATENATE(E57-$B$25+1," dag(en)")),"") | K57: =IFERROR(slachtdatum-G57-1,"")
E58: dd-mm-yy | G58: =IFERROR(VLOOKUP(A58,'Producten + wachttijd'!$G$2:$I$1000,3,FALSE),0) -> 0 | H58: =IFERROR(VLOOKUP(A58,'Producten + wachttijd'!$G$2:$J$1000,4,FALSE),"") | J58: =IFERROR(IF(OR(E58="",A58=65,A58=66),"",CONCATENATE(E58-$B$25+1," dag(en)")),"") | K58: =IFERROR(slachtdatum-G58-1,"")
A62: ONDERZOEKEN UITGEVOERD IN HET KADER VAN DE VOEDSELVEILIGHEID
A63: Omschrijving Salmonella controle | F63: Referentienummer beproevingsverslag + eventuele opmerkingen
A64: Ingangscontrole
A65: Serotypering:
A66: Beslagnummer broeierij
A67: Uitgangscontrole
A68: Serotypering:
A69: Het bedrijf van herkomst van de dieren is onderworpen aan een versterkte controle overeenkomstig het Koninklijk Besluit van 27/02/2013?
A70: BIJZONDERE VERMELDINGEN (BV. RELEVANTE RESULTATEN VAN EERDERE ANTE- EN POSTMORTEMKEURINGEN) EN/OF BIJKOMENDE ANALYSERESULTATEN:
A72: DEEL 3 - INFORMATIE VAN BELANG VOOR EXPORT NAAR DERDE LANDEN
A73: Werden de kuikens geboren in België?
A76: Werd het pluimvee gehouden in België?
A79: Het pluimvee werd gevoederd met
A82: Werd er in de afgelopen 12 maand op het bedrijf:
... A103: Verzending onder de verantwoordelijkheid van de exploitant die deze VKI-verklaring heeft ingevuld.
A104: Handtekening producent: | G104: Datum:
A106: DEEL 4 - GOEDKEURING SLACHTHUIS
A107: IK AANVAARD DIT PLUIMVEE VOOR HET SLACHTEN:
A108: Handtekening verantwoordelijke slachthuis: | G108: Datum:
A110: DEEL 5 - FAVV - CONTROLE: VKI GECONTROLEERD
A111: Handtekening officiële dierenarts: | G111: Datum:

Sheet Producten + wachttijd
A1: Toevoegingsmiddel | B1: Index | C1: Wachttijd | D1: Geneesmiddelen | E1: Index | F1: Wachttijd | G1: Vaccins | H1: Index | I1: Wachttijd | J1: Ziekte | K1: Landen | L1: Manier van toedieing
B2: 1 | C2: 0 | E2: 1 | F2: 0 | H2: 1 | I2: 0 | L2: Drinkwater
A3: Amprolium (Coxam) | B3: 2 | C3: 0 | D3: Adjusol Tmp | E3: 2 | F3: 12 | G3: Avigate S.I. | H3: 2 | I3: 28 | J3: Salmonella | K3: Nederland | L3: Injectie
A4: Copper Forte 50 mg/ml | B4: 3 | C4: 0 | D4: Aivlosin | E4: 3 | F4: 2 | G4: Avinew Fizz | H4: 3 | I4: 0 | J4: NCD | K4: Frankrijk | L4: InOvo
A5: Decoquinate (Avi-deccox) | B5: 4 | C5: 0 | D5: Altidox 500mg | E5: 4 | F5: 5 | G5: Avinew Neo | H5: 4 | I5: 0 | J5: NCD | K5: Duitsland | L5: Spray
A6: Decoquinate (Deccox) | B6: 5 | C6: 0 | D6: Amoxy Active | E6: 5 | F6: 1 | G6: Avipro Precise | H6: 5 | I6: 0 | J6: Gumboro | K6: Groot-Brittannië
A7: Diclazuril (0,5% Clinacox) | B7: 6 | C7: 0 | D7: Amoxycilline 70% | E7: 6 | F7: 1 | G7: Avipro Salmonella vac T | H7: 6 | I7: 21 | J7: Salmonella | K7: Luxemburg
A8: Diclazuril (Coxiril) | B8: 7 | C8: 0 | D8: Amproline 40% drinkwater | E8: 7 | F8: 0 | G8: Avishield GI 13 | H8: 7 | I8: 0 | J8: IB | K8: ---------------
A9: Halofuginone (Stenerol) | B9: 8 | C9: 5 | D9: Apravet 552 IE/MG | E9: 8 | F9: 0 | G9: Avishield H120 | H9: 8 | I9: 0 | J9: IB | K9: Andere landen:
A10: Monensin-natrium (Coxidin) | B10: 9 | C10: 0 | D10: Baycox 2,5% | E10: 9 | F10: 14 | G10: Avishield IBD Int | H10: 9 | I10: 0 | J10: Gumboro | K10: Afghanistan
A11: Monensin-natrium (Elancoban) | B11: 10 | C11: 1 | D11: Baytril 10% | E11: 10 | F11: 7 | G11: Avishield IBD Plus | H11: 10 | I11: 0 | J11: Gumboro | K11: Albanië
A12: Monensin - Nicarbazine (Monimax) | B12: 11 | C12: 0 | D12: Byemite | E12: 11 | F12: 25 | G12: Avishield ND | H12: 11 | I12: 0 | J12: NCD | K12: Algerije
A13: Narasin - Nicarbazine (Maxiban) | B13: 12 | C13: 0 | D13: Coccibal 200mg/ml | E13: 12 | F13: 0 | G13: Avishield ND B1 | H13: 12 | I13: 0 | J13: NCD | K13: Amerika
A14: Narasin (Monteban) | B14: 13 | C14: 0 | D14: Coccibal 400mg/ml | E14: 13 | F14: 0 | G14: Cevac Ibird | H14: 13 | I14: 0 | J14: IB | K14: Amerikaans-Samoa
A15: Nicarbazine | B15: 14 | C15: 1 | D15: Coccipro 400mg/ml | E15: 14 | F15: 0 | G15: Cevac MD Rispens | H15: 14 | I15: 0 | J15: Marek | K15: Amerikaanse Maagdeneilanden
A16: Robenidine | B16: 15 | C16: 5 | D16: Coldostin 4.800.000 UI/g | E16: 15 | F16: 1 | G16: Cevac Mass L | H16: 15 | I16: 0 | J16: IB | K16: Andorra
A17: Salinomycine (Sacox) | B17: 16 | C17: 0 | D17: Colipro 2MUI/ml | E17: 16 | F17: 1 | G17: Cevac Nextmune | H17: 16 | I17: 0 | J17: Gumboro | K17: Angola
... A19: Niet van toepassing | B19: 18 | C19: 0 | D19: Dokamox 80% | E19: 18 | F19: 1 | G19: Evalon | H19: 18 | I19: 0 | J19: Coccidiose | K19: Antarctica
B20: 19 | C20: 99 | D20: Dophacyl® Avi 1000 mg/g | E20: 19 | F20: 2 | G20: Evanovo | H20: 19 | I20: 0 | J20: Coccidiose | K20: Antigua en Barbuda
D21: Dophexine 20 mg/g | E21: 20 | F21: 0 | G21: Evant + Hipramune T | H21: 20 | I21: 0 | J21: Coccidiose | K21: Argentinië
D22: Doxx-Sol | E22: 21 | F22: 5 | G22: Gallivac Ib 88 Neo | H22: 21 | I22: 0 | J22: IB | K22: Armenië
D23: Doxylin 50% | E23: 22 | F23: 5 | G23: Gumbohatch | H23: 22 | I23: 0 | J23: Gumboro | K23: Aruba
D24: Doxyveto-Citrix | E24: 23 | F24: 6 | G24: Hatchpak H120 Neo | H24: 23 | I24: 0 | J24: IB | K24: Australië
D25: Dozuril | E25: 24 | F25: 16 | G25: Hipragumboro CW | H25: 24 | I25: 0 | J25: Gumboro | K25: Armenië
D26: Eimeryl 200 mg / ml | E26: 25 | F26: 0 | G26: Hipragumboro-GM97 | H26: 25 | I26: 0 | J26: Gumboro | K26: Aruba
D27: Emdotrim 10% sol | E27: 26 | F27: 4 | G27: Hipragumboro G97 | H27: 26 | I27: 0 | J27: Gumboro | K27: Australië
D28: Enro-K 10% | E28: 27 | F28: 7 | G28: Hipraviar NDV Clone | H28: 27 | I28: 0 | J28: NCD | K28: Bahrein
D29: Enroshort | E29: 28 | F29: 7 | G29: HuveGuard MMAT | H29: 28 | I29: 0 | J29: Coccidiose | K29: Bangladesh
D30: Enterflume 50% | E30: 29 | F30: 2 | G30: HuveGuard NB | H30: 29 | I30: 0 | J30: Coccidiose | K30: Barbados
D31: Flimabend | E31: 30 | F31: 2 | G31: Innovax IBD-ILT | H31: 30 | I31: 0 | J31: Marek, Gumboro, ILT | K31: Belize
D32: Flubenol 5% | E32: 31 | F32: 1 | G32: Innovax ILT | H32: 31 | I32: 0 | J32: Marek, ILT | K32: Benin
... D62: Spectron 100 | E62: 61 | F62: 7 | G62: Vectormune ND | H62: 61 | I62: 0 | J62: NCD, Marek | K62: Dominica
D63: Suramox | E63: 62 | F63: 1 | G63: Niet van toepassing | H63: 62 | I63: 0 | K63: Dominicaanse Republiek
D64: Surricox 400mg/ml | E64: 63 | F64: 0 | K64: Ecuador
D65: T.S. Sol 20 mg/ml - 100 mg/ml | E65: 64 | F65: 5 | K65: Egypte
D66: Tildosin | E66: 65 | F66: 12 | K66: El Salvador
D67: Tilmovet 250mg/ml | E67: 66 | F67: 12 | K67: Engeland
D68: Trisulmix vloeibaar | E68: 67 | F68: 6 | K68: Equatoriaal-Guinea
D69: Tylan oplosbaar | E69: 68 | F69: 1 | K69: Eritrea
D70: Tylogran | E70: 69 | F70: 1 | K70: Falklandeilanden
D71: Tyloral | E71: 70 | F71: 1 | K71: Fiji
D72: Vetmulin 10% premix | E72: 71 | F72: 1 | K72: Filipijnen
D73: Vetmulin 45% drinkwater | E73: 72 | F73: 2 | K73: Finland
D74: Niet van toepassing | E74: 73 | F74: 0 | K74: Frans-Guyana
E75: 74 | F75: 99 | K75: Frans-Polynesië
K76: Gabon
K77: Gambia
K78: Georgië
K79: Ghana
K80: Gibraltar
K81: Grenada
K82: Griekenland
K83: Groenland
K84: Guadeloupe
K85: Guam
K86: Guatemala
K87: Guernsey
... K245: Zwitserland
