Workbook
Name dagen: 'FCI Flock 1'!$G$54:$G$58
Name dagen: 'FCI Flock 10'!$G$54:$G$58
Name dagen: 'FCI Flock 2'!$G$54:$G$58
Name dagen: 'FCI Flock 3'!$G$54:$G$58
Name dagen: 'FCI Flock 4'!$G$54:$G$58
Name dagen: 'FCI Flock 5'!$G$54:$G$58
Name dagen: 'FCI Flock 6'!$G$54:$G$58
Name dagen: 'FCI Flock 7'!$G$54:$G$58
Name dagen: 'FCI Flock 8'!$G$54:$G$58
Name dagen: 'FCI Flock 9'!$G$54:$G$58
Name dagen: #REF!
Name geneesmiddelen: 'Products + withdrawal period'!$D$4:$D$75
Name geneesmiddelenW: 'Products + withdrawal period'!$E$2:$F$75
Name landen: 'Products + withdrawal period'!$K$3:$K$245
Name opzet: 'FCI Flock 1'!$H$17
Name opzet: 'FCI Flock 10'!$H$17
Name opzet: 'FCI Flock 2'!$H$17
Name opzet: 'FCI Flock 3'!$H$17
Name opzet: 'FCI Flock 4'!$H$17
Name opzet: 'FCI Flock 5'!$H$17
Name opzet: 'FCI Flock 6'!$H$17
Name opzet: 'FCI Flock 7'!$H$17
Name opzet: 'FCI Flock 8'!$H$17
Name opzet: 'FCI Flock 9'!$H$17
Name opzet: #REF!
Name Print_Area: 'FCI Flock 1'!$A$1:$J$112
Name Print_Area: 'FCI Flock 10'!$A$1:$J$112
Name Print_Area: 'FCI Flock 2'!$A$1:$J$112
Name Print_Area: 'FCI Flock 3'!$A$1:$J$112
Name Print_Area: 'FCI Flock 4'!$A$1:$J$112
Name Print_Area: 'FCI Flock 5'!$A$1:$J$112
Name Print_Area: 'FCI Flock 6'!$A$1:$J$112
Name Print_Area: 'FCI Flock 7'!$A$1:$J$112
Name Print_Area: 'FCI Flock 8'!$A$1:$J$112
Name Print_Area: 'FCI Flock 9'!$A$1:$J$112
Name slachtdatum: 'FCI Flock 1'!$K$2
Name slachtdatum: 'FCI Flock 10'!$K$2
Name slachtdatum: 'FCI Flock 2'!$K$2
Name slachtdatum: 'FCI Flock 3'!$K$2
Name slachtdatum: 'FCI Flock 4'!$K$2
Name slachtdatum: 'FCI Flock 5'!$K$2
Name slachtdatum: 'FCI Flock 6'!$K$2
Name slachtdatum: 'FCI Flock 7'!$K$2
Name slachtdatum: 'FCI Flock 8'!$K$2
Name slachtdatum: 'FCI Flock 9'!$K$2
Name slachtdatum: #REF!
Name toevoegingsmiddelen: #REF!
Name Toevoegmiddel: 'Products + withdrawal period'!$A$6:$A$20
Name ToevoegmiddelW: 'Products + withdrawal period'!$B$2:$C$20
Name vaccins: 'Products + withdrawal period'!$G$5:$G$63

Sheet Instructions
A1: Instructions for completing the FCI form for slaughter poultry - broilers
A2: GENERAL INFORMATION ABOUT HOW TO USE THE FORM
A4: 1 | B4: Only the light blue text boxes need to be completed.
A6: 2 | B6: This FCI form serves as an accompanying document for broiler chickens ready for slaughter. It has been drawn up by Belplume, in consultation with the FASFC. The current version of the FCI must be used from 1/09/2026 onwards.
A8: 3 | B8: The FCI form must be received by the slaughterhouse at least two working days before slaughter.
B9: Only a fully and correctly completed FCI form is valid.
B10: We recommend that you complete this electronic form and send it to the slaughterhouse by email.
B11: However, it is also possible to print out the form and complete it manually, then send it by fax or post. Please note that this letter must be received by the slaughterhouse 2 working days before slaughter.
A13: 4 | B13: Completed forms are valid for a maximum of 7 days. Please note that the day of signing by the poultry farmer is considered the first day of validity of the FCI.
B14: However, if new treatments or analyses have been carried out and/or diseases or abnormal production figures have been detected during this 7-day period of validity of the FCI, a new FCI must be drawn up and sent to the slaughterhouse.
A16: 5 | B16: FCI forms must be kept for 5 years by both the poultry farmer and the slaughterhouse.
A18: 6 | B18: One FCI form has to be filled in per flock.
B19: The information in an FCI applies to and is therefore identical for every animal in the flock listed on the FCI.
B20: If different information needs to be provided for an animal or batch of animals or part of a batch of animals, a separate FCI must be drawn up for that animal or batch of animals or part of a batch of animals.
B21: Is one batch of poultry going to different slaughterhouses? Then draw up a separate FCI document for each slaughterhouse.
B22: Always keep a copy of the FCI document for your own records.
A24: 7 | B24: The form that you send by email to the slaughterhouse does not need to be signed.
A26: 8 | B26: However, the copy that you print out and give to the truck driver must be signed and dated.
A28: 9 | B28: The document has been set up so that the K column is not printed.
A30: 10 | B30: If animals are traded through intermediaries (whether or not they are traders), each intermediary/trader must request the FCI from each previous owner and, if necessary, supplement it with new relevant information.
A32: 11 | B32: This FCI form can be downloaded from these websites:
B33: http://www.favv.be - http://www.pluimvee.be - http://www.belplume.be - http://www.boerenbond.be
B34: These websites and trade journals will also notify you when a new version is available.
A36: PART 1 - INFORMATION ABOUT PRODUCER
A39: 12 | B39: Estimated slaughter date: | C39: Date on which the poultry will actually be slaughtered.
A41: 13 | B41: First enter the estimated slaughter date before filling in the rest of the document.
A43: 14 | B43: If you are using the electronic form, first fill in the fixed details relating to the producer. Then save the document. This way, you do not have to fill in the fixed details again each time.
A45: 15 | B45: If the administrative headquarters is located at the same address as the holding, the holding address is the same as the administrative address.
A47: PART 2 - INFORMATION ABOUT THE BATCH OF POULTRY
A49: 16 | B49: Fill in the specific details of the batch to be slaughtered in the fields provided.
A51: 17 | B51: Flock number: | C51: 12-digit code. This code can be found on your batch sheet
A53: 18 | B53: Flock address: | C53: Address where the poultry is housed, The flock address may be the same as the administrative address, if poultry is kept in only one location.
A55: 19 | B55: Additional information: | C55: (This is optional) Combination of the flock number and the date of installation.
C56: Formaat: BEXXXXXXXX-030X/20YY_MM_DD
A58: 20 | B58: Quality label: | C58: Either the actual Belplume certificate or the equivalent IKB Kip for poultry from the Netherlands.
A60: 21 | B60: Date of birth: | C60: Date on which the batch of poultry was born,
C61: In the case of on-farm hatching, the date of birth when the chicks hatched on the farm,
A63: 22 | B63: Number of animals installed: | C63: The number of animals initially installed.
A65: 23 | B65: Number of animals to slaughterhouse: | C65: The number of animals sent to a single slaughterhouse.
B66: A deviation of maximum 3% is tolerated.
...

Sheet FCI Flock 1
A1: FOOD CHAIN INFORMATION for POULTRY FOR SLAUGHTER - broilers version 09/2026 | K1: Estimated slaughter date:
A2: PART 1 - INFORMATION ABOUT PRODUCER AND COMPANY VET | K2: dd-mm-yy
A4: PRODUCER
A5: Responsible: | F5: PHONE:
A6: Name of company: | F6: FAX:
A7: Official address: | F7: E-mail:
A10: COMPANY VET
A11: NAME: | F11: PHONE:
A12: ADDRESS:
A15: PART 2 - INFORMATION ABOUT THE BATCH OF POULTRY
A16: FLOCK:
A17: Flock number (format BEXXXXXXXX-030X):
A18: Flock address: | F18: Number of birds installed:
F19: Number of birds to slaughterhouse:
A20: Name catching team: | F20: * Cumulative daily mortality rate:
A21: Additional information (optional) | F21: Total mortality rate:
A22: Type of poultry: | B22: BROILERS | F22: * mandatory to complete + send daily mortality list with FCI
A23: Race: | F23: Average weight kg/bird:
A24: Quality label: | F24: Stocking density > 33 kg/m² ?
A25: Date of birth: | B25: dd-mm-yy
A27: FEED INFORMATION: (last 6 weeks)
A28: Name of feed supplier:
A29: Name of supplier of raw materials for mixed feed:
A30: Name of medicine / medicated feeds (inc. deworming agents) / feed additives (choose from dropdown-list:) | G30: Starting date | H30: End date | I30: Withdrawal period | K30: Permitted final date of administration:
G31: dd-mm-yy | H31: dd-mm-yy | I31: =IFERROR(VLOOKUP(A31,'Products + withdrawal period'!$A$2:$C$1000,3,FALSE),0) -> 0 | K31: =IFERROR(slachtdatum-I31-1,"")
G32: dd-mm-yy | H32: dd-mm-yy | I32: =IFERROR(VLOOKUP(A32,'Products + withdrawal period'!$A$2:$C$1000,3,FALSE),0) -> 0 | K32: =IFERROR(slachtdatum-I32-1,"")
G33: dd-mm-yy | H33: dd-mm-yy | I33: =IFERROR(VLOOKUP(A33,'Products + withdrawal period'!$A$2:$C$1000,3,FALSE),0) -> 0 | K33: =IFERROR(slachtdatum-I33-1,"")
G34: dd-mm-yy | H34: dd-mm-yy | I34: =IFERROR(VLOOKUP(A34,'Products + withdrawal period'!$A$2:$C$1000,3,FALSE),0) -> 0 | K34: =IFERROR(slachtdatum-I34-1,"")
A35: x
A36: x
A37: x
A38: INFO ON DISEASES, SYMPTOMS AND MEDICINES: (last 6 weeks)
A39: Medical treatment | H39: Diseases / symptoms | J39: Age of birds in days | K39: Permitted final date of administration:
A40: Name (choose from dropdown-list) | E40: Starting date | F40: End date | G40: Wthdrawal period
E41: dd-mm-yy | F41: dd-mm-yy | G41: =IFERROR(VLOOKUP(A41,'Products + withdrawal period'!$D$2:$F$1000,3,FALSE),0) -> 0 | J41: =IFERROR(IF(OR(E41="",A41=65,A41=66),"",CONCATENATE(E41-$B$25+1," dag(en)")),"") | K41: =IFERROR(slachtdatum-G41-1,"")
E42: dd-mm-yy | F42: dd-mm-yy | G42: =IFERROR(VLOOKUP(A42,'Products + withdrawal period'!$D$2:$F$1000,3,FALSE),0) -> 0 | J42: =IFERROR(IF(OR(E42="",A42=65,A42=66),"",CONCATENATE(E42-$B$25+1," dag(en)")),"") | K42: =IFERROR(slachtdatum-G42-1,"")
E43: dd-mm-yy | F43: dd-mm-yy | G43: =IFERROR(VLOOKUP(A43,'Products + withdrawal period'!$D$2:$F$1000,3,FALSE),0) -> 0 | J43: =IFERROR(IF(OR(E43="",A43=65,A43=66),"",CONCATENATE(E43-$B$25+1," dag(en)")),"") | K43: =IFERROR(slachtdatum-G43-1,"")
E44: dd-mm-yy | F44: dd-mm-yy | G44: =IFERROR(VLOOKUP(A44,'Products + withdrawal period'!$D$2:$F$1000,3,FALSE),0) -> 0 | J44: =IFERROR(IF(OR(E44="",A44=65,A44=66),"",CONCATENATE(E44-$B$25+1," dag(en)")),"") | K44: =IFERROR(slachtdatum-G44-1,"")
E45: dd-mm-yy | F45: dd-mm-yy | G45: =IFERROR(VLOOKUP(A45,'Products + withdrawal period'!$D$2:$F$1000,3,FALSE),0) -> 0 | J45: =IFERROR(IF(OR(E45="",A45=65,A45=66),"",CONCATENATE(E45-$B$25+1," dag(en)")),"") | K45: =IFERROR(slachtdatum-G45-1,"")
A49: Are there additional symptoms that threaten the food safety of the meat?
...

Sheet FCI Flock 2
A1: FOOD CHAIN INFORMATION for POULTRY FOR SLAUGHTER - broilers version 09/2026 | K1: Estimated slaughter date:
A2: PART 1 - INFORMATION ABOUT PRODUCER AND COMPANY VET | K2: dd-mm-yy
A4: PRODUCER
A5: Responsible: | F5: PHONE:
A6: Name of company: | F6: FAX:
A7: Official address: | F7: E-mail:
A10: COMPANY VET
A11: NAME: | F11: PHONE:
A12: ADDRESS:
A15: PART 2 - INFORMATION ABOUT THE BATCH OF POULTRY
A16: FLOCK:
A17: Flock number (format BEXXXXXXXX-030X):
A18: Flock address: | F18: Number of birds installed:
F19: Number of birds to slaughterhouse:
A20: Name catching team: | F20: * Cumulative daily mortality rate:
A21: Additional information (optional) | F21: Total mortality rate:
A22: Type of poultry: | B22: BROILERS | F22: * mandatory to complete + send daily mortality list with FCI
A23: Race: | F23: Average weight kg/bird:
A24: Quality label: | F24: Stocking density > 33 kg/m² ?
A25: Date of birth: | B25: dd-mm-yy
A27: FEED INFORMATION: (last 6 weeks)
A28: Name of feed supplier:
A29: Name of supplier of raw materials for mixed feed:
A30: Name of medicine / medicated feeds (inc. deworming agents) / feed additives (choose from dropdown-list:) | G30: Starting date | H30: End date | I30: Withdrawal period | K30: Permitted final date of administration:
G31: dd-mm-yy | H31: dd-mm-yy | I31: =IFERROR(VLOOKUP(A31,'Products + withdrawal period'!$A$2:$C$1000,3,FALSE),0) -> 0 | K31: =IFERROR(slachtdatum-I31-1,"")
G32: dd-mm-yy | H32: dd-mm-yy | I32: =IFERROR(VLOOKUP(A32,'Products + withdrawal period'!$A$2:$C$1000,3,FALSE),0) -> 0 | K32: =IFERROR(slachtdatum-I32-1,"")
G33: dd-mm-yy | H33: dd-mm-yy | I33: =IFERROR(VLOOKUP(A33,'Products + withdrawal period'!$A$2:$C$1000,3,FALSE),0) -> 0 | K33: =IFERROR(slachtdatum-I33-1,"")
G34: dd-mm-yy | H34: dd-mm-yy | I34: =IFERROR(VLOOKUP(A34,'Products + withdrawal period'!$A$2:$C$1000,3,FALSE),0) -> 0 | K34: =IFERROR(slachtdatum-I34-1,"")
A35: x
A36: x
A37: x
A38: INFO ON DISEASES, SYMPTOMS AND MEDICINES: (last 6 weeks)
A39: Medical treatment | H39: Diseases / symptoms | J39: Age of birds in days | K39: Permitted final date of administration:
A40: Name (choose from dropdown-list) | E40: Starting date | F40: End date | G40: Wthdrawal period
E41: dd-mm-yy | F41: dd-mm-yy | G41: =IFERROR(VLOOKUP(A41,'Products + withdrawal period'!$D$2:$F$1000,3,FALSE),0) -> 0 | J41: =IFERROR(IF(OR(E41="",A41=65,A41=66),"",CONCATENATE(E41-$B$25+1," dag(en)")),"") | K41: =IFERROR(slachtdatum-G41-1,"")
E42: dd-mm-yy | F42: dd-mm-yy | G42: =IFERROR(VLOOKUP(A42,'Products + withdrawal period'!$D$2:$F$1000,3,FALSE),0) -> 0 | J42: =IFERROR(IF(OR(E42="",A42=65,A42=66),"",CONCATENATE(E42-$B$25+1," dag(en)")),"") | K42: =IFERROR(slachtdatum-G42-1,"")
E43: dd-mm-yy | F43: dd-mm-yy | G43: =IFERROR(VLOOKUP(A43,'Products + withdrawal period'!$D$2:$F$1000,3,FALSE),0) -> 0 | J43: =IFERROR(IF(OR(E43="",A43=65,A43=66),"",CONCATENATE(E43-$B$25+1," dag(en)")),"") | K43: =IFERROR(slachtdatum-G43-1,"")
E44: dd-mm-yy | F44: dd-mm-yy | G44: =IFERROR(VLOOKUP(A44,'Products + withdrawal period'!$D$2:$F$1000,3,FALSE),0) -> 0 | J44: =IFERROR(IF(OR(E44="",A44=65,A44=66),"",CONCATENATE(E44-$B$25+1," dag(en)")),"") | K44: =IFERROR(slachtdatum-G44-1,"")
E45: dd-mm-yy | F45: dd-mm-yy | G45: =IFERROR(VLOOKUP(A45,'Products + withdrawal period'!$D$2:$F$1000,3,FALSE),0) -> 0 | J45: =IFERROR(IF(OR(E45="",A45=65,A45=66),"",CONCATENATE(E45-$B$25+1," dag(en)")),"") | K45: =IFERROR(slachtdatum-G45-1,"")
A49: Are there additional symptoms that threaten the food safety of the meat?
...

Sheet FCI Flock 3
A1: FOOD CHAIN INFORMATION for POULTRY FOR SLAUGHTER - broilers version 09/2026 | K1: Estimated slaughter date:
A2: PART 1 - INFORMATION ABOUT PRODUCER AND COMPANY VET | K2: dd-mm-yy
A4: PRODUCER
A5: Responsible: | F5: PHONE:
A6: Name of company: | F6: FAX:
A7: Official address: | F7: E-mail:
A10: COMPANY VET
A11: NAME: | F11: PHONE:
A12: ADDRESS:
A15: PART 2 - INFORMATION ABOUT THE BATCH OF POULTRY
A16: FLOCK:
A17: Flock number (format BEXXXXXXXX-030X):
A18: Flock address: | F18: Number of birds installed:
F19: Number of birds to slaughterhouse:
A20: Name catching team: | F20: * Cumulative daily mortality rate:
A21: Additional information (optional) | F21: Total mortality rate:
A22: Type of poultry: | B22: BROILERS | F22: * mandatory to complete + send daily mortality list with FCI
A23: Race: | F23: Average weight kg/bird:
A24: Quality label: | F24: Stocking density > 33 kg/m² ?
A25: Date of birth: | B25: dd-mm-yy
A27: FEED INFORMATION: (last 6 weeks)
A28: Name of feed supplier:
A29: Name of supplier of raw materials for mixed feed:
A30: Name of medicine / medicated feeds (inc. deworming agents) / feed additives (choose from dropdown-list:) | G30: Starting date | H30: End date | I30: Withdrawal period | K30: Permitted final date of administration:
G31: dd-mm-yy | H31: dd-mm-yy | I31: =IFERROR(VLOOKUP(A31,'Products + withdrawal period'!$A$2:$C$1000,3,FALSE),0) -> 0 | K31: =IFERROR(slachtdatum-I31-1,"")
G32: dd-mm-yy | H32: dd-mm-yy | I32: =IFERROR(VLOOKUP(A32,'Products + withdrawal period'!$A$2:$C$1000,3,FALSE),0) -> 0 | K32: =IFERROR(slachtdatum-I32-1,"")
G33: dd-mm-yy | H33: dd-mm-yy | I33: =IFERROR(VLOOKUP(A33,'Products + withdrawal period'!$A$2:$C$1000,3,FALSE),0) -> 0 | K33: =IFERROR(slachtdatum-I33-1,"")
G34: dd-mm-yy | H34: dd-mm-yy | I34: =IFERROR(VLOOKUP(A34,'Products + withdrawal period'!$A$2:$C$1000,3,FALSE),0) -> 0 | K34: =IFERROR(slachtdatum-I34-1,"")
A35: x
A36: x
A37: x
A38: INFO ON DISEASES, SYMPTOMS AND MEDICINES: (last 6 weeks)
A39: Medical treatment | H39: Diseases / symptoms | J39: Age of birds in days | K39: Permitted final date of administration:
A40: Name (choose from dropdown-list) | E40: Starting date | F40: End date | G40: Wthdrawal period
E41: dd-mm-yy | F41: dd-mm-yy | G41: =IFERROR(VLOOKUP(A41,'Products + withdrawal period'!$D$2:$F$1000,3,FALSE),0) -> 0 | J41: =IFERROR(IF(OR(E41="",A41=65,A41=66),"",CONCATENATE(E41-$B$25+1," dag(en)")),"") | K41: =IFERROR(slachtdatum-G41-1,"")
E42: dd-mm-yy | F42: dd-mm-yy | G42: =IFERROR(VLOOKUP(A42,'Products + withdrawal period'!$D$2:$F$1000,3,FALSE),0) -> 0 | J42: =IFERROR(IF(OR(E42="",A42=65,A42=66),"",CONCATENATE(E42-$B$25+1," dag(en)")),"") | K42: =IFERROR(slachtdatum-G42-1,"")
E43: dd-mm-yy | F43: dd-mm-yy | G43: =IFERROR(VLOOKUP(A43,'Products + withdrawal period'!$D$2:$F$1000,3,FALSE),0) -> 0 | J43: =IFERROR(IF(OR(E43="",A43=65,A43=66),"",CONCATENATE(E43-$B$25+1," dag(en)")),"") | K43: =IFERROR(slachtdatum-G43-1,"")
E44: dd-mm-yy | F44: dd-mm-yy | G44: =IFERROR(VLOOKUP(A44,'Products + withdrawal period'!$D$2:$F$1000,3,FALSE),0) -> 0 | J44: =IFERROR(IF(OR(E44="",A44=65,A44=66),"",CONCATENATE(E44-$B$25+1," dag(en)")),"") | K44: =IFERROR(slachtdatum-G44-1,"")
E45: dd-mm-yy | F45: dd-mm-yy | G45: =IFERROR(VLOOKUP(A45,'Products + withdrawal period'!$D$2:$F$1000,3,FALSE),0) -> 0 | J45: =IFERROR(IF(OR(E45="",A45=65,A45=66),"",CONCATENATE(E45-$B$25+1," dag(en)")),"") | K45: =IFERROR(slachtdatum-G45-1,"")
A49: Are there additional symptoms that threaten the food safety of the meat?
...

Sheet FCI Flock 4
A1: FOOD CHAIN INFORMATION for POULTRY FOR SLAUGHTER - broilers version 09/2026 | K1: Estimated slaughter date:
A2: PART 1 - INFORMATION ABOUT PRODUCER AND COMPANY VET | K2: dd-mm-yy
A4: PRODUCER
A5: Responsible: | F5: PHONE:
A6: Name of company: | F6: FAX:
A7: Official address: | F7: E-mail:
A10: COMPANY VET
A11: NAME: | F11: PHONE:
A12: ADDRESS:
A15: PART 2 - INFORMATION ABOUT THE BATCH OF POULTRY
A16: FLOCK:
A17: Flock number (format BEXXXXXXXX-030X):
A18: Flock address: | F18: Number of birds installed:
F19: Number of birds to slaughterhouse:
A20: Name catching team: | F20: * Cumulative daily mortality rate:
A21: Additional information (optional) | F21: Total mortality rate:
A22: Type of poultry: | B22: BROILERS | F22: * mandatory to complete + send daily mortality list with FCI
A23: Race: | F23: Average weight kg/bird:
A24: Quality label: | F24: Stocking density > 33 kg/m² ?
A25: Date of birth: | B25: dd-mm-yy
A27: FEED INFORMATION: (last 6 weeks)
A28: Name of feed supplier:
A29: Name of supplier of raw materials for mixed feed:
A30: Name of medicine / medicated feeds (inc. deworming agents) / feed additives (choose from dropdown-list:) | G30: Starting date | H30: End date | I30: Withdrawal period | K30: Permitted final date of administration:
G31: dd-mm-yy | H31: dd-mm-yy | I31: =IFERROR(VLOOKUP(A31,'Products + withdrawal period'!$A$2:$C$1000,3,FALSE),0) -> 0 | K31: =IFERROR(slachtdatum-I31-1,"")
G32: dd-mm-yy | H32: dd-mm-yy | I32: =IFERROR(VLOOKUP(A32,'Products + withdrawal period'!$A$2:$C$1000,3,FALSE),0) -> 0 | K32: =IFERROR(slachtdatum-I32-1,"")
G33: dd-mm-yy | H33: dd-mm-yy | I33: =IFERROR(VLOOKUP(A33,'Products + withdrawal period'!$A$2:$C$1000,3,FALSE),0) -> 0 | K33: =IFERROR(slachtdatum-I33-1,"")
G34: dd-mm-yy | H34: dd-mm-yy | I34: =IFERROR(VLOOKUP(A34,'Products + withdrawal period'!$A$2:$C$1000,3,FALSE),0) -> 0 | K34: =IFERROR(slachtdatum-I34-1,"")
A35: x
A36: x
A37: x
A38: INFO ON DISEASES, SYMPTOMS AND MEDICINES: (last 6 weeks)
A39: Medical treatment | H39: Diseases / symptoms | J39: Age of birds in days | K39: Permitted final date of administration:
A40: Name (choose from dropdown-list) | E40: Starting date | F40: End date | G40: Wthdrawal period
E41: dd-mm-yy | F41: dd-mm-yy | G41: =IFERROR(VLOOKUP(A41,'Products + withdrawal period'!$D$2:$F$1000,3,FALSE),0) -> 0 | J41: =IFERROR(IF(OR(E41="",A41=65,A41=66),"",CONCATENATE(E41-$B$25+1," dag(en)")),"") | K41: =IFERROR(slachtdatum-G41-1,"")
E42: dd-mm-yy | F42: dd-mm-yy | G42: =IFERROR(VLOOKUP(A42,'Products + withdrawal period'!$D$2:$F$1000,3,FALSE),0) -> 0 | J42: =IFERROR(IF(OR(E42="",A42=65,A42=66),"",CONCATENATE(E42-$B$25+1," dag(en)")),"") | K42: =IFERROR(slachtdatum-G42-1,"")
E43: dd-mm-yy | F43: dd-mm-yy | G43: =IFERROR(VLOOKUP(A43,'Products + withdrawal period'!$D$2:$F$1000,3,FALSE),0) -> 0 | J43: =IFERROR(IF(OR(E43="",A43=65,A43=66),"",CONCATENATE(E43-$B$25+1," dag(en)")),"") | K43: =IFERROR(slachtdatum-G43-1,"")
E44: dd-mm-yy | F44: dd-mm-yy | G44: =IFERROR(VLOOKUP(A44,'Products + withdrawal period'!$D$2:$F$1000,3,FALSE),0) -> 0 | J44: =IFERROR(IF(OR(E44="",A44=65,A44=66),"",CONCATENATE(E44-$B$25+1," dag(en)")),"") | K44: =IFERROR(slachtdatum-G44-1,"")
E45: dd-mm-yy | F45: dd-mm-yy | G45: =IFERROR(VLOOKUP(A45,'Products + withdrawal period'!$D$2:$F$1000,3,FALSE),0) -> 0 | J45: =IFERROR(IF(OR(E45="",A45=65,A45=66),"",CONCATENATE(E45-$B$25+1," dag(en)")),"") | K45: =IFERROR(slachtdatum-G45-1,"")
A49: Are there additional symptoms that threaten the food safety of the meat?
...

Sheet FCI Flock 5
A1: FOOD CHAIN INFORMATION for POULTRY FOR SLAUGHTER - broilers version 09/2026 | K1: Estimated slaughter date:
A2: PART 1 - INFORMATION ABOUT PRODUCER AND COMPANY VET | K2: dd-mm-yy
A4: PRODUCER
A5: Responsible: | F5: PHONE:
A6: Name of company: | F6: FAX:
A7: Official address: | F7: E-mail:
A10: COMPANY VET
A11: NAME: | F11: PHONE:
A12: ADDRESS:
A15: PART 2 - INFORMATION ABOUT THE BATCH OF POULTRY
A16: FLOCK:
A17: Flock number (format BEXXXXXXXX-030X):
A18: Flock address: | F18: Number of birds installed:
F19: Number of birds to slaughterhouse:
A20: Name catching team: | F20: * Cumulative daily mortality rate:
A21: Additional information (optional) | F21: Total mortality rate:
A22: Type of poultry: | B22: BROILERS | F22: * mandatory to complete + send daily mortality list with FCI
A23: Race: | F23: Average weight kg/bird:
A24: Quality label: | F24: Stocking density > 33 kg/m² ?
A25: Date of birth: | B25: dd-mm-yy
A27: FEED INFORMATION: (last 6 weeks)
A28: Name of feed supplier:
A29: Name of supplier of raw materials for mixed feed:
A30: Name of medicine / medicated feeds (inc. deworming agents) / feed additives (choose from dropdown-list:) | G30: Starting date | H30: End date | I30: Withdrawal period | K30: Permitted final date of administration:
G31: dd-mm-yy | H31: dd-mm-yy | I31: =IFERROR(VLOOKUP(A31,'Products + withdrawal period'!$A$2:$C$1000,3,FALSE),0) -> 0 | K31: =IFERROR(slachtdatum-I31-1,"")
G32: dd-mm-yy | H32: dd-mm-yy | I32: =IFERROR(VLOOKUP(A32,'Products + withdrawal period'!$A$2:$C$1000,3,FALSE),0) -> 0 | K32: =IFERROR(slachtdatum-I32-1,"")
G33: dd-mm-yy | H33: dd-mm-yy | I33: =IFERROR(VLOOKUP(A33,'Products + withdrawal period'!$A$2:$C$1000,3,FALSE),0) -> 0 | K33: =IFERROR(slachtdatum-I33-1,"")
G34: dd-mm-yy | H34: dd-mm-yy | I34: =IFERROR(VLOOKUP(A34,'Products + withdrawal period'!$A$2:$C$1000,3,FALSE),0) -> 0 | K34: =IFERROR(slachtdatum-I34-1,"")
A35: x
A36: x
A37: x
A38: INFO ON DISEASES, SYMPTOMS AND MEDICINES: (last 6 weeks)
A39: Medical treatment | H39: Diseases / symptoms | J39: Age of birds in days | K39: Permitted final date of administration:
A40: Name (choose from dropdown-list) | E40: Starting date | F40: End date | G40: Wthdrawal period
E41: dd-mm-yy | F41: dd-mm-yy | G41: =IFERROR(VLOOKUP(A41,'Products + withdrawal period'!$D$2:$F$1000,3,FALSE),0) -> 0 | J41: =IFERROR(IF(OR(E41="",A41=65,A41=66),"",CONCATENATE(E41-$B$25+1," dag(en)")),"") | K41: =IFERROR(slachtdatum-G41-1,"")
E42: dd-mm-yy | F42: dd-mm-yy | G42: =IFERROR(VLOOKUP(A42,'Products + withdrawal period'!$D$2:$F$1000,3,FALSE),0) -> 0 | J42: =IFERROR(IF(OR(E42="",A42=65,A42=66),"",CONCATENATE(E42-$B$25+1," dag(en)")),"") | K42: =IFERROR(slachtdatum-G42-1,"")
E43: dd-mm-yy | F43: dd-mm-yy | G43: =IFERROR(VLOOKUP(A43,'Products + withdrawal period'!$D$2:$F$1000,3,FALSE),0) -> 0 | J43: =IFERROR(IF(OR(E43="",A43=65,A43=66),"",CONCATENATE(E43-$B$25+1," dag(en)")),"") | K43: =IFERROR(slachtdatum-G43-1,"")
E44: dd-mm-yy | F44: dd-mm-yy | G44: =IFERROR(VLOOKUP(A44,'Products + withdrawal period'!$D$2:$F$1000,3,FALSE),0) -> 0 | J44: =IFERROR(IF(OR(E44="",A44=65,A44=66),"",CONCATENATE(E44-$B$25+1," dag(en)")),"") | K44: =IFERROR(slachtdatum-G44-1,"")
E45: dd-mm-yy | F45: dd-mm-yy | G45: =IFERROR(VLOOKUP(A45,'Products + withdrawal period'!$D$2:$F$1000,3,FALSE),0) -> 0 | J45: =IFERROR(IF(OR(E45="",A45=65,A45=66),"",CONCATENATE(E45-$B$25+1," dag(en)")),"") | K45: =IFERROR(slachtdatum-G45-1,"")
A49: Are there additional symptoms that threaten the food safety of the meat?
...

Sheet FCI Flock 6
A1: FOOD CHAIN INFORMATION for POULTRY FOR SLAUGHTER - broilers version 09/2026 | K1: Estimated slaughter date:
A2: PART 1 - INFORMATION ABOUT PRODUCER AND COMPANY VET | K2: dd-mm-yy
A4: PRODUCER
A5: Responsible: | F5: PHONE:
A6: Name of company: | F6: FAX:
A7: Official address: | F7: E-mail:
A10: COMPANY VET
A11: NAME: | F11: PHONE:
A12: ADDRESS:
A15: PART 2 - INFORMATION ABOUT THE BATCH OF POULTRY
A16: FLOCK:
A17: Flock number (format BEXXXXXXXX-030X):
A18: Flock address: | F18: Number of birds installed:
F19: Number of birds to slaughterhouse:
A20: Name catching team: | F20: * Cumulative daily mortality rate:
A21: Additional information (optional) | F21: Total mortality rate:
A22: Type of poultry: | B22: BROILERS | F22: * mandatory to complete + send daily mortality list with FCI
A23: Race: | F23: Average weight kg/bird:
A24: Quality label: | F24: Stocking density > 33 kg/m² ?
A25: Date of birth: | B25: dd-mm-yy
A27: FEED INFORMATION: (last 6 weeks)
A28: Name of feed supplier:
A29: Name of supplier of raw materials for mixed feed:
A30: Name of medicine / medicated feeds (inc. deworming agents) / feed additives (choose from dropdown-list:) | G30: Starting date | H30: End date | I30: Withdrawal period | K30: Permitted final date of administration:
G31: dd-mm-yy | H31: dd-mm-yy | I31: =IFERROR(VLOOKUP(A31,'Products + withdrawal period'!$A$2:$C$1000,3,FALSE),0) -> 0 | K31: =IFERROR(slachtdatum-I31-1,"")
G32: dd-mm-yy | H32: dd-mm-yy | I32: =IFERROR(VLOOKUP(A32,'Products + withdrawal period'!$A$2:$C$1000,3,FALSE),0) -> 0 | K32: =IFERROR(slachtdatum-I32-1,"")
G33: dd-mm-yy | H33: dd-mm-yy | I33: =IFERROR(VLOOKUP(A33,'Products + withdrawal period'!$A$2:$C$1000,3,FALSE),0) -> 0 | K33: =IFERROR(slachtdatum-I33-1,"")
G34: dd-mm-yy | H34: dd-mm-yy | I34: =IFERROR(VLOOKUP(A34,'Products + withdrawal period'!$A$2:$C$1000,3,FALSE),0) -> 0 | K34: =IFERROR(slachtdatum-I34-1,"")
A35: x
A36: x
A37: x
A38: INFO ON DISEASES, SYMPTOMS AND MEDICINES: (last 6 weeks)
A39: Medical treatment | H39: Diseases / symptoms | J39: Age of birds in days | K39: Permitted final date of administration:
A40: Name (choose from dropdown-list) | E40: Starting date | F40: End date | G40: Wthdrawal period
E41: dd-mm-yy | F41: dd-mm-yy | G41: =IFERROR(VLOOKUP(A41,'Products + withdrawal period'!$D$2:$F$1000,3,FALSE),0) -> 0 | J41: =IFERROR(IF(OR(E41="",A41=65,A41=66),"",CONCATENATE(E41-$B$25+1," dag(en)")),"") | K41: =IFERROR(slachtdatum-G41-1,"")
E42: dd-mm-yy | F42: dd-mm-yy | G42: =IFERROR(VLOOKUP(A42,'Products + withdrawal period'!$D$2:$F$1000,3,FALSE),0) -> 0 | J42: =IFERROR(IF(OR(E42="",A42=65,A42=66),"",CONCATENATE(E42-$B$25+1," dag(en)")),"") | K42: =IFERROR(slachtdatum-G42-1,"")
E43: dd-mm-yy | F43: dd-mm-yy | G43: =IFERROR(VLOOKUP(A43,'Products + withdrawal period'!$D$2:$F$1000,3,FALSE),0) -> 0 | J43: =IFERROR(IF(OR(E43="",A43=65,A43=66),"",CONCATENATE(E43-$B$25+1," dag(en)")),"") | K43: =IFERROR(slachtdatum-G43-1,"")
E44: dd-mm-yy | F44: dd-mm-yy | G44: =IFERROR(VLOOKUP(A44,'Products + withdrawal period'!$D$2:$F$1000,3,FALSE),0) -> 0 | J44: =IFERROR(IF(OR(E44="",A44=65,A44=66),"",CONCATENATE(E44-$B$25+1," dag(en)")),"") | K44: =IFERROR(slachtdatum-G44-1,"")
E45: dd-mm-yy | F45: dd-mm-yy | G45: =IFERROR(VLOOKUP(A45,'Products + withdrawal period'!$D$2:$F$1000,3,FALSE),0) -> 0 | J45: =IFERROR(IF(OR(E45="",A45=65,A45=66),"",CONCATENATE(E45-$B$25+1," dag(en)")),"") | K45: =IFERROR(slachtdatum-G45-1,"")
A49: Are there additional symptoms that threaten the food safety of the meat?
...

Sheet FCI Flock 7
A1: FOOD CHAIN INFORMATION for POULTRY FOR SLAUGHTER - broilers version 09/2026 | K1: Estimated slaughter date:
A2: PART 1 - INFORMATION ABOUT PRODUCER AND COMPANY VET | K2: dd-mm-yy
A4: PRODUCER
A5: Responsible: | F5: PHONE:
A6: Name of company: | F6: FAX:
A7: Official address: | F7: E-mail:
A10: COMPANY VET
A11: NAME: | F11: PHONE:
A12: ADDRESS:
A15: PART 2 - INFORMATION ABOUT THE BATCH OF POULTRY
A16: FLOCK:
A17: Flock number (format BEXXXXXXXX-030X):
A18: Flock address: | F18: Number of birds installed:
F19: Number of birds to slaughterhouse:
A20: Name catching team: | F20: * Cumulative daily mortality rate:
A21: Additional information (optional) | F21: Total mortality rate:
A22: Type of poultry: | B22: BROILERS | F22: * mandatory to complete + send daily mortality list with FCI
A23: Race: | F23: Average weight kg/bird:
A24: Quality label: | F24: Stocking density > 33 kg/m² ?
A25: Date of birth: | B25: dd-mm-yy
A27: FEED INFORMATION: (last 6 weeks)
A28: Name of feed supplier:
A29: Name of supplier of raw materials for mixed feed:
A30: Name of medicine / medicated feeds (inc. deworming agents) / feed additives (choose from dropdown-list:) | G30: Starting date | H30: End date | I30: Withdrawal period | K30: Permitted final date of administration:
G31: dd-mm-yy | H31: dd-mm-yy | I31: =IFERROR(VLOOKUP(A31,'Products + withdrawal period'!$A$2:$C$1000,3,FALSE),0) -> 0 | K31: =IFERROR(slachtdatum-I31-1,"")
G32: dd-mm-yy | H32: dd-mm-yy | I32: =IFERROR(VLOOKUP(A32,'Products + withdrawal period'!$A$2:$C$1000,3,FALSE),0) -> 0 | K32: =IFERROR(slachtdatum-I32-1,"")
G33: dd-mm-yy | H33: dd-mm-yy | I33: =IFERROR(VLOOKUP(A33,'Products + withdrawal period'!$A$2:$C$1000,3,FALSE),0) -> 0 | K33: =IFERROR(slachtdatum-I33-1,"")
G34: dd-mm-yy | H34: dd-mm-yy | I34: =IFERROR(VLOOKUP(A34,'Products + withdrawal period'!$A$2:$C$1000,3,FALSE),0) -> 0 | K34: =IFERROR(slachtdatum-I34-1,"")
A35: x
A36: x
A37: x
A38: INFO ON DISEASES, SYMPTOMS AND MEDICINES: (last 6 weeks)
A39: Medical treatment | H39: Diseases / symptoms | J39: Age of birds in days | K39: Permitted final date of administration:
A40: Name (choose from dropdown-list) | E40: Starting date | F40: End date | G40: Wthdrawal period
E41: dd-mm-yy | F41: dd-mm-yy | G41: =IFERROR(VLOOKUP(A41,'Products + withdrawal period'!$D$2:$F$1000,3,FALSE),0) -> 0 | J41: =IFERROR(IF(OR(E41="",A41=65,A41=66),"",CONCATENATE(E41-$B$25+1," dag(en)")),"") | K41: =IFERROR(slachtdatum-G41-1,"")
E42: dd-mm-yy | F42: dd-mm-yy | G42: =IFERROR(VLOOKUP(A42,'Products + withdrawal period'!$D$2:$F$1000,3,FALSE),0) -> 0 | J42: =IFERROR(IF(OR(E42="",A42=65,A42=66),"",CONCATENATE(E42-$B$25+1," dag(en)")),"") | K42: =IFERROR(slachtdatum-G42-1,"")
E43: dd-mm-yy | F43: dd-mm-yy | G43: =IFERROR(VLOOKUP(A43,'Products + withdrawal period'!$D$2:$F$1000,3,FALSE),0) -> 0 | J43: =IFERROR(IF(OR(E43="",A43=65,A43=66),"",CONCATENATE(E43-$B$25+1," dag(en)")),"") | K43: =IFERROR(slachtdatum-G43-1,"")
E44: dd-mm-yy | F44: dd-mm-yy | G44: =IFERROR(VLOOKUP(A44,'Products + withdrawal period'!$D$2:$F$1000,3,FALSE),0) -> 0 | J44: =IFERROR(IF(OR(E44="",A44=65,A44=66),"",CONCATENATE(E44-$B$25+1," dag(en)")),"") | K44: =IFERROR(slachtdatum-G44-1,"")
E45: dd-mm-yy | F45: dd-mm-yy | G45: =IFERROR(VLOOKUP(A45,'Products + withdrawal period'!$D$2:$F$1000,3,FALSE),0) -> 0 | J45: =IFERROR(IF(OR(E45="",A45=65,A45=66),"",CONCATENATE(E45-$B$25+1," dag(en)")),"") | K45: =IFERROR(slachtdatum-G45-1,"")
A49: Are there additional symptoms that threaten the food safety of the meat?
...

Sheet FCI Flock 8
A1: FOOD CHAIN INFORMATION for POULTRY FOR SLAUGHTER - broilers version 09/2026 | K1: Estimated slaughter date:
A2: PART 1 - INFORMATION ABOUT PRODUCER AND COMPANY VET | K2: dd-mm-yy
A4: PRODUCER
A5: Responsible: | F5: PHONE:
A6: Name of company: | F6: FAX:
A7: Official address: | F7: E-mail:
A10: COMPANY VET
A11: NAME: | F11: PHONE:
A12: ADDRESS:
A15: PART 2 - INFORMATION ABOUT THE BATCH OF POULTRY
A16: FLOCK:
A17: Flock number (format BEXXXXXXXX-030X):
A18: Flock address: | F18: Number of birds installed:
F19: Number of birds to slaughterhouse:
A20: Name catching team: | F20: * Cumulative daily mortality rate:
A21: Additional information (optional) | F21: Total mortality rate:
A22: Type of poultry: | B22: BROILERS | F22: * mandatory to complete + send daily mortality list with FCI
A23: Race: | F23: Average weight kg/bird:
A24: Quality label: | F24: Stocking density > 33 kg/m² ?
A25: Date of birth: | B25: dd-mm-yy
A27: FEED INFORMATION: (last 6 weeks)
A28: Name of feed supplier:
A29: Name of supplier of raw materials for mixed feed:
A30: Name of medicine / medicated feeds (inc. deworming agents) / feed additives (choose from dropdown-list:) | G30: Starting date | H30: End date | I30: Withdrawal period | K30: Permitted final date of administration:
G31: dd-mm-yy | H31: dd-mm-yy | I31: =IFERROR(VLOOKUP(A31,'Products + withdrawal period'!$A$2:$C$1000,3,FALSE),0) -> 0 | K31: =IFERROR(slachtdatum-I31-1,"")
G32: dd-mm-yy | H32: dd-mm-yy | I32: =IFERROR(VLOOKUP(A32,'Products + withdrawal period'!$A$2:$C$1000,3,FALSE),0) -> 0 | K32: =IFERROR(slachtdatum-I32-1,"")
G33: dd-mm-yy | H33: dd-mm-yy | I33: =IFERROR(VLOOKUP(A33,'Products + withdrawal period'!$A$2:$C$1000,3,FALSE),0) -> 0 | K33: =IFERROR(slachtdatum-I33-1,"")
G34: dd-mm-yy | H34: dd-mm-yy | I34: =IFERROR(VLOOKUP(A34,'Products + withdrawal period'!$A$2:$C$1000,3,FALSE),0) -> 0 | K34: =IFERROR(slachtdatum-I34-1,"")
A35: x
A36: x
A37: x
A38: INFO ON DISEASES, SYMPTOMS AND MEDICINES: (last 6 weeks)
A39: Medical treatment | H39: Diseases / symptoms | J39: Age of birds in days | K39: Permitted final date of administration:
A40: Name (choose from dropdown-list) | E40: Starting date | F40: End date | G40: Wthdrawal period
E41: dd-mm-yy | F41: dd-mm-yy | G41: =IFERROR(VLOOKUP(A41,'Products + withdrawal period'!$D$2:$F$1000,3,FALSE),0) -> 0 | J41: =IFERROR(IF(OR(E41="",A41=65,A41=66),"",CONCATENATE(E41-$B$25+1," dag(en)")),"") | K41: =IFERROR(slachtdatum-G41-1,"")
E42: dd-mm-yy | F42: dd-mm-yy | G42: =IFERROR(VLOOKUP(A42,'Products + withdrawal period'!$D$2:$F$1000,3,FALSE),0) -> 0 | J42: =IFERROR(IF(OR(E42="",A42=65,A42=66),"",CONCATENATE(E42-$B$25+1," dag(en)")),"") | K42: =IFERROR(slachtdatum-G42-1,"")
E43: dd-mm-yy | F43: dd-mm-yy | G43: =IFERROR(VLOOKUP(A43,'Products + withdrawal period'!$D$2:$F$1000,3,FALSE),0) -> 0 | J43: =IFERROR(IF(OR(E43="",A43=65,A43=66),"",CONCATENATE(E43-$B$25+1," dag(en)")),"") | K43: =IFERROR(slachtdatum-G43-1,"")
E44: dd-mm-yy | F44: dd-mm-yy | G44: =IFERROR(VLOOKUP(A44,'Products + withdrawal period'!$D$2:$F$1000,3,FALSE),0) -> 0 | J44: =IFERROR(IF(OR(E44="",A44=65,A44=66),"",CONCATENATE(E44-$B$25+1," dag(en)")),"") | K44: =IFERROR(slachtdatum-G44-1,"")
E45: dd-mm-yy | F45: dd-mm-yy | G45: =IFERROR(VLOOKUP(A45,'Products + withdrawal period'!$D$2:$F$1000,3,FALSE),0) -> 0 | J45: =IFERROR(IF(OR(E45="",A45=65,A45=66),"",CONCATENATE(E45-$B$25+1," dag(en)")),"") | K45: =IFERROR(slachtdatum-G45-1,"")
A49: Are there additional symptoms that threaten the food safety of the meat?
...

Sheet FCI Flock 9
A1: FOOD CHAIN INFORMATION for POULTRY FOR SLAUGHTER - broilers version 09/2026 | K1: Estimated slaughter date:
A2: PART 1 - INFORMATION ABOUT PRODUCER AND COMPANY VET | K2: dd-mm-yy
A4: PRODUCER
A5: Responsible: | F5: PHONE:
A6: Name of company: | F6: FAX:
A7: Official address: | F7: E-mail:
A10: COMPANY VET
A11: NAME: | F11: PHONE:
A12: ADDRESS:
A15: PART 2 - INFORMATION ABOUT THE BATCH OF POULTRY
A16: FLOCK:
A17: Flock number (format BEXXXXXXXX-030X):
A18: Flock address: | F18: Number of birds installed:
F19: Number of birds to slaughterhouse:
A20: Name catching team: | F20: * Cumulative daily mortality rate:
A21: Additional information (optional) | F21: Total mortality rate:
A22: Type of poultry: | B22: BROILERS | F22: * mandatory to complete + send daily mortality list with FCI
A23: Race: | F23: Average weight kg/bird:
A24: Quality label: | F24: Stocking density > 33 kg/m² ?
A25: Date of birth: | B25: dd-mm-yy
A27: FEED INFORMATION: (last 6 weeks)
A28: Name of feed supplier:
A29: Name of supplier of raw materials for mixed feed:
A30: Name of medicine / medicated feeds (inc. deworming agents) / feed additives (choose from dropdown-list:) | G30: Starting date | H30: End date | I30: Withdrawal period | K30: Permitted final date of administration:
G31: dd-mm-yy | H31: dd-mm-yy | I31: =IFERROR(VLOOKUP(A31,'Products + withdrawal period'!$A$2:$C$1000,3,FALSE),0) -> 0 | K31: =IFERROR(slachtdatum-I31-1,"")
G32: dd-mm-yy | H32: dd-mm-yy | I32: =IFERROR(VLOOKUP(A32,'Products + withdrawal period'!$A$2:$C$1000,3,FALSE),0) -> 0 | K32: =IFERROR(slachtdatum-I32-1,"")
G33: dd-mm-yy | H33: dd-mm-yy | I33: =IFERROR(VLOOKUP(A33,'Products + withdrawal period'!$A$2:$C$1000,3,FALSE),0) -> 0 | K33: =IFERROR(slachtdatum-I33-1,"")
G34: dd-mm-yy | H34: dd-mm-yy | I34: =IFERROR(VLOOKUP(A34,'Products + withdrawal period'!$A$2:$C$1000,3,FALSE),0) -> 0 | K34: =IFERROR(slachtdatum-I34-1,"")
A35: x
A36: x
A37: x
A38: INFO ON DISEASES, SYMPTOMS AND MEDICINES: (last 6 weeks)
A39: Medical treatment | H39: Diseases / symptoms | J39: Age of birds in days | K39: Permitted final date of administration:
A40: Name (choose from dropdown-list) | E40: Starting date | F40: End date | G40: Wthdrawal period
E41: dd-mm-yy | F41: dd-mm-yy | G41: =IFERROR(VLOOKUP(A41,'Products + withdrawal period'!$D$2:$F$1000,3,FALSE),0) -> 0 | J41: =IFERROR(IF(OR(E41="",A41=65,A41=66),"",CONCATENATE(E41-$B$25+1," dag(en)")),"") | K41: =IFERROR(slachtdatum-G41-1,"")
E42: dd-mm-yy | F42: dd-mm-yy | G42: =IFERROR(VLOOKUP(A42,'Products + withdrawal period'!$D$2:$F$1000,3,FALSE),0) -> 0 | J42: =IFERROR(IF(OR(E42="",A42=65,A42=66),"",CONCATENATE(E42-$B$25+1," dag(en)")),"") | K42: =IFERROR(slachtdatum-G42-1,"")
E43: dd-mm-yy | F43: dd-mm-yy | G43: =IFERROR(VLOOKUP(A43,'Products + withdrawal period'!$D$2:$F$1000,3,FALSE),0) -> 0 | J43: =IFERROR(IF(OR(E43="",A43=65,A43=66),"",CONCATENATE(E43-$B$25+1," dag(en)")),"") | K43: =IFERROR(slachtdatum-G43-1,"")
E44: dd-mm-yy | F44: dd-mm-yy | G44: =IFERROR(VLOOKUP(A44,'Products + withdrawal period'!$D$2:$F$1000,3,FALSE),0) -> 0 | J44: =IFERROR(IF(OR(E44="",A44=65,A44=66),"",CONCATENATE(E44-$B$25+1," dag(en)")),"") | K44: =IFERROR(slachtdatum-G44-1,"")
E45: dd-mm-yy | F45: dd-mm-yy | G45: =IFERROR(VLOOKUP(A45,'Products + withdrawal period'!$D$2:$F$1000,3,FALSE),0) -> 0 | J45: =IFERROR(IF(OR(E45="",A45=65,A45=66),"",CONCATENATE(E45-$B$25+1," dag(en)")),"") | K45: =IFERROR(slachtdatum-G45-1,"")
A49: Are there additional symptoms that threaten the food safety of the meat?
...

Sheet FCI Flock 10
A1: FOOD CHAIN INFORMATION for POULTRY FOR SLAUGHTER - broilers version 09/2026 | K1: Estimated slaughter date:
A2: PART 1 - INFORMATION ABOUT PRODUCER AND COMPANY VET | K2: dd-mm-yy
A4: PRODUCER
A5: Responsible: | F5: PHONE:
A6: Name of company: | F6: FAX:
A7: Official address: | F7: E-mail:
A10: COMPANY VET
A11: NAME: | F11: PHONE:
A12: ADDRESS:
A15: PART 2 - INFORMATION ABOUT THE BATCH OF POULTRY
A16: FLOCK:
A17: Flock number (format BEXXXXXXXX-030X):
A18: Flock address: | F18: Number of birds installed:
F19: Number of birds to slaughterhouse:
A20: Name catching team: | F20: * Cumulative daily mortality rate:
A21: Additional information (optional) | F21: Total mortality rate:
A22: Type of poultry: | B22: BROILERS | F22: * mandatory to complete + send daily mortality list with FCI
A23: Race: | F23: Average weight kg/bird:
A24: Quality label: | F24: Stocking density > 33 kg/m² ?
A25: Date of birth: | B25: dd-mm-yy
A27: FEED INFORMATION: (last 6 weeks)
A28: Name of feed supplier:
A29: Name of supplier of raw materials for mixed feed:
A30: Name of medicine / medicated feeds (inc. deworming agents) / feed additives (choose from dropdown-list:) | G30: Starting date | H30: End date | I30: Withdrawal period | K30: Permitted final date of administration:
G31: dd-mm-yy | H31: dd-mm-yy | I31: =IFERROR(VLOOKUP(A31,'Products + withdrawal period'!$A$2:$C$1000,3,FALSE),0) -> 0 | K31: =IFERROR(slachtdatum-I31-1,"")
G32: dd-mm-yy | H32: dd-mm-yy | I32: =IFERROR(VLOOKUP(A32,'Products + withdrawal period'!$A$2:$C$1000,3,FALSE),0) -> 0 | K32: =IFERROR(slachtdatum-I32-1,"")
G33: dd-mm-yy | H33: dd-mm-yy | I33: =IFERROR(VLOOKUP(A33,'Products + withdrawal period'!$A$2:$C$1000,3,FALSE),0) -> 0 | K33: =IFERROR(slachtdatum-I33-1,"")
G34: dd-mm-yy | H34: dd-mm-yy | I34: =IFERROR(VLOOKUP(A34,'Products + withdrawal period'!$A$2:$C$1000,3,FALSE),0) -> 0 | K34: =IFERROR(slachtdatum-I34-1,"")
A35: x
A36: x
A37: x
A38: INFO ON DISEASES, SYMPTOMS AND MEDICINES: (last 6 weeks)
A39: Medical treatment | H39: Diseases / symptoms | J39: Age of birds in days | K39: Permitted final date of administration:
A40: Name (choose from dropdown-list) | E40: Starting date | F40: End date | G40: Wthdrawal period
E41: dd-mm-yy | F41: dd-mm-yy | G41: =IFERROR(VLOOKUP(A41,'Products + withdrawal period'!$D$2:$F$1000,3,FALSE),0) -> 0 | J41: =IFERROR(IF(OR(E41="",A41=65,A41=66),"",CONCATENATE(E41-$B$25+1," dag(en)")),"") | K41: =IFERROR(slachtdatum-G41-1,"")
E42: dd-mm-yy | F42: dd-mm-yy | G42: =IFERROR(VLOOKUP(A42,'Products + withdrawal period'!$D$2:$F$1000,3,FALSE),0) -> 0 | J42: =IFERROR(IF(OR(E42="",A42=65,A42=66),"",CONCATENATE(E42-$B$25+1," dag(en)")),"") | K42: =IFERROR(slachtdatum-G42-1,"")
E43: dd-mm-yy | F43: dd-mm-yy | G43: =IFERROR(VLOOKUP(A43,'Products + withdrawal period'!$D$2:$F$1000,3,FALSE),0) -> 0 | J43: =IFERROR(IF(OR(E43="",A43=65,A43=66),"",CONCATENATE(E43-$B$25+1," dag(en)")),"") | K43: =IFERROR(slachtdatum-G43-1,"")
E44: dd-mm-yy | F44: dd-mm-yy | G44: =IFERROR(VLOOKUP(A44,'Products + withdrawal period'!$D$2:$F$1000,3,FALSE),0) -> 0 | J44: =IFERROR(IF(OR(E44="",A44=65,A44=66),"",CONCATENATE(E44-$B$25+1," dag(en)")),"") | K44: =IFERROR(slachtdatum-G44-1,"")
E45: dd-mm-yy | F45: dd-mm-yy | G45: =IFERROR(VLOOKUP(A45,'Products + withdrawal period'!$D$2:$F$1000,3,FALSE),0) -> 0 | J45: =IFERROR(IF(OR(E45="",A45=65,A45=66),"",CONCATENATE(E45-$B$25+1," dag(en)")),"") | K45: =IFERROR(slachtdatum-G45-1,"")
A49: Are there additional symptoms that threaten the food safety of the meat?
...

Sheet Products + withdrawal period
A1: Additives | B1: Index | C1: Withdrawal period | D1: Drugs | E1: Index | F1: Withdrawal period | G1: Vaccines | H1: Index | I1: Withdrawal period | J1: Diseases | K1: Countries | L1: Mode of injection
B2: 1 | C2: 0 | E2: 1 | F2: 0 | H2: 1 | I2: 0 | L2: Drinking water
A3: Amprolium (Coxam) | B3: 2 | C3: 0 | D3: Adjusol Tmp | E3: 2 | F3: 12 | G3: Avigate S.I. | H3: 2 | I3: 28 | J3: Salmonella | K3: France | L3: Injection
A4: Copper Forte 50 mg/ml | B4: 3 | C4: 0 | D4: Aivlosin | E4: 3 | F4: 2 | G4: Avinew Fizz | H4: 3 | I4: 0 | J4: NCD | K4: Germany | L4: InOvo
A5: Decoquinate (Avi-deccox) | B5: 4 | C5: 0 | D5: Altidox 500mg | E5: 4 | F5: 5 | G5: Avinew Neo | H5: 4 | I5: 0 | J5: NCD | K5: Great Britain | L5: Spray
A6: Decoquinate (Deccox) | B6: 5 | C6: 0 | D6: Amoxy Active | E6: 5 | F6: 1 | G6: Avipro Precise | H6: 5 | I6: 0 | J6: Gumboro | K6: Luxembourg
A7: Diclazuril (0,5% Clinacox) | B7: 6 | C7: 0 | D7: Amoxycilline 70% | E7: 6 | F7: 1 | G7: Avipro Salmonella vac T | H7: 6 | I7: 21 | J7: Salmonella | K7: Netherlands
A8: Diclazuril (Coxiril) | B8: 7 | C8: 0 | D8: Amproline 40% drinking water | E8: 7 | F8: 0 | G8: Avishield GI 13 | H8: 7 | I8: 0 | J8: IB | K8: ---------------
A9: Halofuginone (Stenerol) | B9: 8 | C9: 5 | D9: Apravet 552 IE/MG | E9: 8 | F9: 0 | G9: Avishield H120 | H9: 8 | I9: 0 | J9: IB | K9: Other countries:
A10: Monensin-natrium (Coxidin) | B10: 9 | C10: 0 | D10: Baycox 2,5% | E10: 9 | F10: 14 | G10: Avishield IBD Int | H10: 9 | I10: 0 | J10: Gumboro | K10: Afghanistan
A11: Monensin-natrium (Elancoban) | B11: 10 | C11: 1 | D11: Baytril 10% | E11: 10 | F11: 7 | G11: Avishield IBD Plus | H11: 10 | I11: 0 | J11: Gumboro | K11: Albania
A12: Monensin - Nicarbazine (Monimax) | B12: 11 | C12: 0 | D12: Byemite | E12: 11 | F12: 25 | G12: Avishield ND | H12: 11 | I12: 0 | J12: NCD | K12: Algeria
A13: Narasin - Nicarbazine (Maxiban) | B13: 12 | C13: 0 | D13: Coccibal 200mg/ml | E13: 12 | F13: 0 | G13: Avishield ND B1 | H13: 12 | I13: 0 | J13: NCD | K13: America
A14: Narasin (Monteban) | B14: 13 | C14: 0 | D14: Coccibal 400mg/ml | E14: 13 | F14: 0 | G14: Cevac Ibird | H14: 13 | I14: 0 | J14: IB | K14: American Samoa
A15: Nicarbazine | B15: 14 | C15: 1 | D15: Coccipro 400mg/ml | E15: 14 | F15: 0 | G15: Cevac MD Rispens | H15: 14 | I15: 0 | J15: Marek | K15: American Virgin Islands
A16: Robenidine | B16: 15 | C16: 5 | D16: Coldostin 4.800.000 UI/g | E16: 15 | F16: 1 | G16: Cevac Mass L | H16: 15 | I16: 0 | J16: IB | K16: Andorra
A17: Salinomycine (Sacox) | B17: 16 | C17: 0 | D17: Colipro 2MUI/ml | E17: 16 | F17: 1 | G17: Cevac Nextmune | H17: 16 | I17: 0 | J17: Gumboro | K17: Angola
... A19: Not applicable | B19: 18 | C19: 0 | D19: Dokamox 80% | E19: 18 | F19: 1 | G19: Evalon | H19: 18 | I19: 0 | J19: Coccidiose | K19: Antarctica
B20: 19 | C20: 99 | D20: Dophacyl® Avi 1000 mg/g | E20: 19 | F20: 2 | G20: Evanovo | H20: 19 | I20: 0 | J20: Coccidiose | K20: Antigua and Barbuda
D21: Dophexine 20 mg/g | E21: 20 | F21: 0 | G21: Evant + Hipramune T | H21: 20 | I21: 0 | J21: Coccidiose | K21: Argentina
D22: Doxx-Sol | E22: 21 | F22: 5 | G22: Gallivac Ib 88 Neo | H22: 21 | I22: 0 | J22: IB | K22: Armenia
D23: Doxylin 50% | E23: 22 | F23: 5 | G23: Gumbohatch | H23: 22 | I23: 0 | J23: Gumboro | K23: Armenia
D24: Doxyveto-Citrix | E24: 23 | F24: 6 | G24: Hatchpak H120 Neo | H24: 23 | I24: 0 | J24: IB | K24: Aruba
D25: Dozuril | E25: 24 | F25: 16 | G25: Hipragumboro CW | H25: 24 | I25: 0 | J25: Gumboro | K25: Aruba
D26: Eimeryl 200 mg / ml | E26: 25 | F26: 0 | G26: Hipragumboro-GM97 | H26: 25 | I26: 0 | J26: Gumboro | K26: Australia
D27: Emdotrim 10% sol | E27: 26 | F27: 4 | G27: Hipragumboro G97 | H27: 26 | I27: 0 | J27: Gumboro | K27: Australia
D28: Enro-K 10% | E28: 27 | F28: 7 | G28: Hipraviar NDV Clone | H28: 27 | I28: 0 | J28: NCD | K28: Austria
D29: Enroshort | E29: 28 | F29: 7 | G29: HuveGuard MMAT | H29: 28 | I29: 0 | J29: Coccidiose | K29: Bahrain
D30: Enterflume 50% | E30: 29 | F30: 2 | G30: HuveGuard NB | H30: 29 | I30: 0 | J30: Coccidiose | K30: Bangladesh
D31: Flimabend | E31: 30 | F31: 2 | G31: Innovax IBD-ILT | H31: 30 | I31: 0 | J31: Marek, Gumboro, ILT | K31: Barbados
D32: Flubenol 5% | E32: 31 | F32: 1 | G32: Innovax ILT | H32: 31 | I32: 0 | J32: Marek, ILT | K32: Belarus
... D62: Spectron 100 | E62: 61 | F62: 7 | G62: Vectormune ND | H62: 61 | I62: 0 | J62: NCD, Marek | K62: Cook Islands
D63: Suramox | E63: 62 | F63: 1 | G63: Not applicable | H63: 62 | I63: 0 | K63: Costa Rica
D64: Surricox 400mg/ml | E64: 63 | F64: 0 | K64: Croatia
D65: T.S. Sol 20 mg/ml - 100 mg/ml | E65: 64 | F65: 5 | K65: Cuba
D66: Tildosin | E66: 65 | F66: 12 | K66: Cyprus
D67: Tilmovet 250mg/ml | E67: 66 | F67: 12 | K67: Czech Republic
D68: Trisulmix vloeibaar | E68: 67 | F68: 6 | K68: Denmark
D69: Tylan oplosbaar | E69: 68 | F69: 1 | K69: Djibouti
D70: Tylogran | E70: 69 | F70: 1 | K70: Dominica
...
